BEGIN:VCALENDAR
VERSION:2.0
PRODID:-//ChamberMaster//Event Calendar 2.0//EN
METHOD:PUBLISH
X-PUBLISHED-TTL:P3D
REFRESH-INTERVAL:P3D
CALSCALE:GREGORIAN
BEGIN:VEVENT
DTSTART:20141119T170000Z
DTEND:20141119T180000Z
X-MICROSOFT-CDO-ALLDAYEVENT:FALSE
SUMMARY:Young Professional Forum - Social Media Networking
DESCRIPTION:SAVE THE DATE  Young Professional Form Topic Covered: Social Media Networking\n\n\n\nYou know how to use Facebook and Twitter to keep in touch with family\, friends and even the local news\, but do you know how to leverage it for business?\n\n \n\nJoin us for the next Young Professionals Forum where are resident social media expert\, Jen Vondenbrink\, facilitates a discussion on how to use social media for business. \n\n \n\nWe'll tie in the previous two conversations about because once you enter the professional world\, anything you post affects your brand and who will want to connect with you.\n\n \n\nBring your questions\, although this will not be a how to session.  We'll be talking about things like:\n\n	Why it's important to be on LinkedIn?\n	What does your profile say about you?\n	If I didn't know you and checked out your online presence\, would I have a realistic view of who you are?\n	Why is it important to build and grow a network now?\n\n_________________________________________________________________\n\n\n\n\n\n\n\nMORE INFORMATION ABOUT THE YOUNG PROFESSIONAL FORUMS\n\n\n\nWhy You\, a Young Professional should attend\n\n\n	Learn skills for your career from local experts and each other.\n	Meet people outside your business to build your network\n	Potentially develop mentorship relationships.\n	Open Doors to potential leadership roles on committees\, ambassador\, or board positions Developing relationships with local influential business professionals\n	Kick start your career right here at Tri-Town Chamber\n	This isn?t your parent?s chamber full of suits and PowerPoint presentations.  Instead every month we give you the opportunity to talk with your peers and learn from experienced professionals the skills you need to be successful throughout your career.\n	Are you Interested in getting more involved?  Ask us how you can take a leadership role in the Young Professionals Leadership Forum.\n\n \n\nWhy a Company would encourage Young Professional to be involved:\n\n\n	Gives the young professional a way to network with peers in other businesses which could lead to future business and employees.\n	Supports internal development of the young professional.\n	Potentially provides mentoring opportunities.\n	Potentially provides leadership roles for ongoing development\n\nAdditional Benefits for You the Owner or Manager of the Company:\n\n\n	Did you know according to the Bureau of Labor the average worker stays in their position for 4.4 years\, but the average for young professionals is less than 3 years.  With the cost of a new hire hovering between 1.5-3 times the annual salaries\, this high turnover can get expensive.\n	The Tri-Town Chamber of Commerce recognizes the importance of mitigating costs for its member and has developed a Young Professionals Leadership Forum.\n	The purpose of the Young Professionals Leadership Forum is to provide professional development on a monthly basis to enhance your employee?s experience\, therefore enhancing the future of your company.\n	Young professionals from your organization will join others for monthly facilitated conversations on topics important to professionals in today?s market.\n	We encourage you to spread the word to the young professionals in your organization.  Please feel free to contact us with any questions
X-ALT-DESC;FMTTYPE=text/html:<span style="font-family:arial\,sans-serif\;">SAVE THE DATE &nbsp\;Young Professional Form Topic Covered: <strong>Social Media&nbsp\;Networking</strong></span><br />\n<br />\nYou know how to use Facebook and Twitter to keep in touch with family\, friends and even the local news\, but do you know how to leverage it for business?<br />\n&nbsp\;<br />\nJoin us for the next Young Professionals Forum where are resident social media expert\, Jen Vondenbrink\, facilitates a discussion on how to use social media for business.&nbsp\;<br />\n&nbsp\;<br />\nWe&#39\;ll tie in the previous two conversations about because once you enter the professional world\, anything you post affects your brand and who will want to connect with you.<br />\n&nbsp\;<br />\nBring your questions\, although this will not be a how to session.&nbsp\; We&#39\;ll be talking about things like:\n<ul>\n	<li>Why it&#39\;s important to be on LinkedIn?</li>\n	<li>What does your profile say about you?</li>\n	<li>If I didn&#39\;t know you and checked out your online presence\, would I have a realistic view of who you are?</li>\n	<li>Why is it important to build and grow a network now?</li>\n</ul>\n_________________________________________________________________<br />\n<br />\n<br />\n<br />\n<strong><u>MORE INFORMATION ABOUT THE YOUNG PROFESSIONAL FORUMS</u><br />\n<br />\nWhy You\, a Young Professional should attend</strong>\n\n<ul>\n	<li><span style="line-height: 1.6\;">Learn skills for your career from local experts and each other.</span></li>\n	<li>Meet people outside your business to build your network</li>\n	<li>Potentially develop mentorship relationships.</li>\n	<li>Open Doors to potential leadership roles on committees\, ambassador\, or board positions Developing relationships with local influential business professionals</li>\n	<li>Kick start your career right here at Tri-Town Chamber</li>\n	<li><span style="line-height: 1.6\;">This isn?t your parent?s chamber full of suits and PowerPoint presentations.&nbsp\; Instead every month we give you the opportunity to talk with your peers and learn from experienced professionals the skills you need to be successful throughout your career.</span></li>\n	<li><em>Are you Interested in getting more involved?&nbsp\; Ask us how you can take a leadership role in the Young Professionals Leadership Forum.</em></li>\n</ul>\n&nbsp\;<br />\n<strong>Why a Company would encourage Young Professional to be involved:</strong>\n\n<ul>\n	<li>Gives the young professional a way to network with peers in other businesses which could lead to future business and employees.</li>\n	<li>Supports internal development of the young professional.</li>\n	<li>Potentially provides mentoring opportunities.</li>\n	<li>Potentially provides leadership roles for ongoing development</li>\n</ul>\n<strong>Additional Benefits for You the Owner or Manager of the Company:</strong>\n\n<ul>\n	<li><span style="line-height: 1.6\;">Did you know according to the Bureau of Labor the average worker stays in their position for 4.4 years\, but the average for young professionals is less than 3 years.&nbsp\; With the cost of a new hire hovering between 1.5-3 times the annual salaries\, this high turnover can get expensive.</span></li>\n	<li>The Tri-Town Chamber of Commerce recognizes the importance of mitigating costs for its member and has developed a Young Professionals Leadership Forum.</li>\n	<li>The purpose of the Young Professionals Leadership Forum is to provide professional development on a monthly basis to enhance your employee?s experience\, therefore enhancing the future of your company.</li>\n	<li>Young professionals from your organization will join others for monthly facilitated conversations on topics important to professionals in today?s market.</li>\n	<li><em>We encourage you to spread the word to the young professionals in your organization.&nbsp\; Please feel free to contact us with any questions</em></li>\n</ul>\n<br />\n&nbsp\;
LOCATION:at the Tri-Town Chamber of Commerce building in the Barrows Insurance Agency Conference Room.
UID:e.1730.1085
SEQUENCE:3
DTSTAMP:20260420T132033Z
URL:https://www.tri-townchamber.org/events/details/young-professional-forum-social-media-networking-11-19-2014-1085
END:VEVENT

END:VCALENDAR
