BEGIN:VCALENDAR
VERSION:2.0
PRODID:-//ChamberMaster//Event Calendar 2.0//EN
METHOD:PUBLISH
X-PUBLISHED-TTL:P3D
REFRESH-INTERVAL:P3D
CALSCALE:GREGORIAN
BEGIN:VEVENT
DTSTART:20140925T160000Z
DTEND:20140925T170000Z
X-MICROSOFT-CDO-ALLDAYEVENT:FALSE
SUMMARY:Young Professional Forum - Personal Branding for Young Professionals
DESCRIPTION:This is the first Young Professional Form Topic Covered: Personal Branding for Young Professionals\n\n\n\nDeveloping a personal brand can be challenging. Being a young professional in the employ of an organization with its own brand can often present as many questions as it does answers.\n\n \n\nProfessional career coach and former Tri Town Chamber president John Bates will be hosting a workshop on Personal Branding for Young Professionals at the Chamber from noon to one PM on Thursday September 25. While everyone is welcome\, the focus will be on employees of member companies or solopreneurs who are in the early stages of their career path. Attendees are encouraged to bring questions\, but several will be included in the core discussion:\n\n\n	What is a personal brand and why do I need one?\n	How do I create my own brand?\n	How do I create a brand if tons of other people are doing exactly the same work?\n	Is it OK for me to develop my own brand even though I work for someone else?\n	What if the brand I want to develop isn't aligned with my employer's brand?\n	Do I have to blog or be active in social media to drive my brand?\n	Is professional networking important to develop my own brand?\n	What is an elevator pitch\, and do I really need one?\n	How do chambers of commerce or other professional groups play into my branding?\n	How will creating a personal brand help me in my job and in my career?\n\n\n\nMORE INFORMATION ABOUT THE YOUNG PROFESSIONAL FORUMS\n\n\n\nWhy You\, a Young Professional should attend\n\n\n	Learn skills for your career from local experts and each other.\n	Meet people outside your business to build your network\n	Potentially develop mentorship relationships.\n	Open Doors to potential leadership roles on committees\, ambassador\, or board positions Developing relationships with local influential business professionals\n	Kick start your career right here at Tri-Town Chamber\n	This isn't your parent's chamber full of suits and PowerPoint presentations.  Instead every month we give you the opportunity to talk with your peers and learn from experienced professionals the skills you need to be successful throughout your career.\n	Are you Interested in getting more involved?  Ask us how you can take a leadership role in the Young Professionals Leadership Forum.\n\n \n\nWhy a Company would encourage Young Professional to be involved:\n\n\n	Gives the young professional a way to network with peers in other businesses which could lead to future business and employees.\n	Supports internal development of the young professional.\n	Potentially provides mentoring opportunities.\n	Potentially provides leadership roles for ongoing development\n\nAdditional Benefits for You the Owner or Manager of the Company:\n\n\n	Did you know according to the Bureau of Labor the average worker stays in their position for 4.4 years\, but the average for young professionals is less than 3 years.  With the cost of a new hire hovering between 1.5-3 times the annual salaries\, this high turnover can get expensive.\n	The Tri-Town Chamber of Commerce recognizes the importance of mitigating costs for its member and has developed a Young Professionals Leadership Forum.\n	The purpose of the Young Professionals Leadership Forum is to provide professional development on a monthly basis to enhance your employee's experience\, therefore enhancing the future of your company.\n	Young professionals from your organization will join others for monthly facilitated conversations on topics important to professionals in today's market.\n	We encourage you to spread the word to the young professionals in your organization.  Please feel free to contact us with any questions
X-ALT-DESC;FMTTYPE=text/html:<span style="font-family:arial\,sans-serif\;">This is the first Young Professional Form Topic Covered: <strong>Personal Branding for Young Professionals</strong><br />\n<br />\nDeveloping a personal brand can be challenging. Being a young professional in the employ of an organization with its own brand can often present as many questions as it does answers.</span><br />\n&nbsp\;<br />\n<span style="font-family:arial\,sans-serif\;">Professional career coach and former Tri Town Chamber president <strong>John Bates</strong> will be hosting a workshop on <strong>Personal Branding for Young Professionals</strong> at the Chamber from noon to one PM on Thursday September 25. While everyone is welcome\, the focus will be on employees of member companies or solopreneurs who are in the early stages of their career path. Attendees are encouraged to bring questions\, but several will be included in the core discussion:</span>\n\n<ol>\n	<li><span style="font-family:arial\,sans-serif\;">What is a personal brand and why do I need one?</span></li>\n	<li><span style="font-family:arial\,sans-serif\;">How do I create my own brand?</span></li>\n	<li><span style="font-family:arial\,sans-serif\;">How do I create a brand if tons of other people are doing exactly the same work?</span></li>\n	<li><span style="font-family:arial\,sans-serif\;">Is it OK for me to develop my own brand even though I work for someone else?</span></li>\n	<li><span style="font-family:arial\,sans-serif\;">What if the brand I want to develop isn&rsquo\;t aligned with my employer&rsquo\;s brand?</span></li>\n	<li><span style="font-family:arial\,sans-serif\;">Do I have to blog or be active in social media to drive my brand?</span></li>\n	<li><span style="font-family:arial\,sans-serif\;">Is professional networking important to develop my own brand?</span></li>\n	<li><span style="font-family:arial\,sans-serif\;">What is an elevator pitch\, and do I really need one?</span></li>\n	<li><span style="font-family:arial\,sans-serif\;">How do chambers of commerce or other professional groups play into my branding?</span></li>\n	<li><span style="font-family:arial\,sans-serif\;">How will creating a personal brand help me in my job and in my career?</span></li>\n</ol>\n<br />\n<strong><u>MORE INFORMATION ABOUT THE YOUNG PROFESSIONAL FORUMS</u><br />\n<br />\nWhy You\, a Young Professional should attend</strong>\n\n<ul>\n	<li><span style="line-height: 1.6\;">Learn skills for your career from local experts and each other.</span></li>\n	<li>Meet people outside your business to build your network</li>\n	<li>Potentially develop mentorship relationships.</li>\n	<li>Open Doors to potential leadership roles on committees\, ambassador\, or board positions Developing relationships with local influential business professionals</li>\n	<li>Kick start your career right here at Tri-Town Chamber</li>\n	<li><span style="line-height: 1.6\;">This isn&rsquo\;t your parent&rsquo\;s chamber full of suits and PowerPoint presentations.&nbsp\; Instead every month we give you the opportunity to talk with your peers and learn from experienced professionals the skills you need to be successful throughout your career.</span></li>\n	<li><em>Are you Interested in getting more involved?&nbsp\; Ask us how you can take a leadership role in the Young Professionals Leadership Forum.</em></li>\n</ul>\n&nbsp\;<br />\n<strong>Why a Company would encourage Young Professional to be involved:</strong>\n\n<ul>\n	<li>Gives the young professional a way to network with peers in other businesses which could lead to future business and employees.</li>\n	<li>Supports internal development of the young professional.</li>\n	<li>Potentially provides mentoring opportunities.</li>\n	<li>Potentially provides leadership roles for ongoing development</li>\n</ul>\n<strong>Additional Benefits for You the Owner or Manager of the Company:</strong>\n\n<ul>\n	<li><span style="line-height: 1.6\;">Did you know according to the Bureau of Labor the average worker stays in their position for 4.4 years\, but the average for young professionals is less than 3 years.&nbsp\; With the cost of a new hire hovering between 1.5-3 times the annual salaries\, this high turnover can get expensive.</span></li>\n	<li>The Tri-Town Chamber of Commerce recognizes the importance of mitigating costs for its member and has developed a Young Professionals Leadership Forum.</li>\n	<li>The purpose of the Young Professionals Leadership Forum is to provide professional development on a monthly basis to enhance your employee&rsquo\;s experience\, therefore enhancing the future of your company.</li>\n	<li>Young professionals from your organization will join others for monthly facilitated conversations on topics important to professionals in today&rsquo\;s market.</li>\n	<li><em>We encourage you to spread the word to the young professionals in your organization.&nbsp\; Please feel free to contact us with any questions</em></li>\n</ul>\n<br />\n&nbsp\;
LOCATION:at the Tri-Town Chamber of Commerce building in the Barrows Insurance Agency Conference Room.
UID:e.1730.1052
SEQUENCE:3
DTSTAMP:20260420T150425Z
URL:https://www.tri-townchamber.org/events/details/young-professional-forum-personal-branding-for-young-professionals-09-25-2014-1052
END:VEVENT

END:VCALENDAR
