BEGIN:VCALENDAR
VERSION:2.0
PRODID:-//ChamberMaster//Event Calendar 2.0//EN
METHOD:PUBLISH
X-PUBLISHED-TTL:P3D
REFRESH-INTERVAL:P3D
CALSCALE:GREGORIAN
BEGIN:VEVENT
DTSTART:20151027T210000Z
DTEND:20151027T230000Z
X-MICROSOFT-CDO-ALLDAYEVENT:FALSE
SUMMARY:Xfinity Backstage Business After Hours Event
DESCRIPTION:You are invited to attend the this unique Business After Hours Backstage at Xfinity Center  Mansfield. Join us for a backstage experience and meet Jeff Mann\, General Manager of the Xfinity Center!  Jeff has worked at the Time Warner Arena\, in Charlotte\, has taught as an adjunct professor at Johnson and Wales in Charlotte.  His knowledge of arena operations qualified him to run 2 Democratic Conventions\, and serve has a member of the President's Advance Team.  Jeff also worked in Operations at the Fleet Center for 6 years.   The event will be held backstage at Xfinity\, there will be food\, drink\, raffles and plenty of chatting. This is an informal social where business people get together\, exchange ideas and develop new relationships. So don't hesitate! Bring plenty of business cards and your winning handshake to the next Business After Hours and develop your own synergistic group of business contacts!  Parking for this event will be behind the scenes   so follow the balloons when you arrive.\n\n\n\nTuesday October 27th 5:00-7:00pm\n\nRSVP to reserve your spot\n\n \n\nAbout our After Hours Host: the Xfinity Center:\n\nXfinity Center is owned by Live Nation Entertainment\, the largest provider of entertainment in the world.  This summer the Xfinity Center celebrated 30 seasons of live music on the stages in Mansfield.  The Xfinity Center is proud to be member of the Tri-Town Community.\n\n \nWhat are Business After Hours?\n\nThese monthly networking programs (Business After Hours - BAH) are sponsored by and hosted at Tri-Town Chamber Member establishments.  BAH's facilitates the development of personal relationships which enables individuals to stand out and rise above today's multitude of advertising white noise. Networking is one of the most affordable means of marketing resulting in invaluable personal referrals and word-of-mouth advertising.\n\n \n\nReasons why networking and Business After Hours can make a difference for your business:\n\n  Business people are more inclined to do business with people they know.\n\n  Business people are more inclined to refer friends\, family and customers to someone they know.\n\n  Business After Hours provides an excellent opportunity to get your company name\, products and services out there   to make yourself and your company known.\n\n  Business After Hours is a great way to meet potential customers and increase your customer base.\n\n  Business After Hours is an easy way to find the services you need or have been looking for right in your own backyard.\n\n  Business After Hours are set in a relaxed\, fun atmosphere.
X-ALT-DESC;FMTTYPE=text/html:You are invited to attend the this unique<strong> Business After Hours Backstage at Xfinity Center&nbsp\; </strong>Mansfield. Join us for a backstage experience and meet Jeff Mann\, General Manager of the Xfinity Center!&nbsp\; Jeff has worked at the Time Warner Arena\, in Charlotte\, has taught as an adjunct professor at Johnson and Wales in Charlotte.&nbsp\; His knowledge of arena operations qualified him to run 2 Democratic Conventions\, and serve has a member of the President&rsquo\;s Advance Team.&nbsp\; Jeff also worked in Operations at the Fleet Center for 6 years.&nbsp\;&nbsp\; The event will be held backstage at Xfinity\, there will be food\, drink\, raffles and plenty of chatting. This is an informal social where business people get together\, exchange ideas and develop new relationships. So don&rsquo\;t hesitate! Bring plenty of business cards and your winning handshake to the next Business After Hours and develop your own synergistic group of business contacts!&nbsp\; Parking for this event will be behind the scenes &ndash\; so follow the balloons when you arrive.<br />\n<br />\nTuesday October 27th 5:00-7:00pm<br />\nRSVP to reserve your spot<br />\n&nbsp\;<br />\n<em><strong><span style="line-height: 23.1111px\;">About our After Hours Host: the&nbsp\;</span>Xfinity Center:</strong><br />\nXfinity Center is owned by Live Nation Entertainment\, the largest provider of entertainment in the world.&nbsp\; This summer the Xfinity Center celebrated 30 seasons of live music on the stages in Mansfield.&nbsp\; The Xfinity Center is proud to be member of the Tri-Town Community.</em><br />\n&nbsp\;\n<div style="margin-left: 40px\;"><em>What are Business After Hours?<br />\nThese monthly networking programs (Business After Hours - BAH) are sponsored by and hosted at Tri-Town Chamber Member establishments.&nbsp\; BAH&rsquo\;s facilitates the development of personal relationships which enables individuals to stand out and rise above today&rsquo\;s multitude of advertising white noise. Networking is one of the most affordable means of marketing resulting in invaluable personal referrals and word-of-mouth advertising.<br />\n&nbsp\;<br />\nReasons why networking and Business After Hours can make a difference for your business:<br />\n&bull\; Business people are more inclined to do business with people they know.<br />\n&bull\; Business people are more inclined to refer friends\, family and customers to someone they know.<br />\n&bull\; Business After Hours provides an excellent opportunity to get your company name\, products and services out there &ndash\; to make yourself and your company known.<br />\n&bull\; Business After Hours is a great way to meet potential customers and increase your customer base.<br />\n&bull\; Business After Hours is an easy way to find the services you need or have been looking for right in your own backyard.<br />\n&bull\; Business After Hours are set in a relaxed\, fun atmosphere.<br />\n&nbsp\;<br />\n&nbsp\;</em></div>\n
LOCATION:Xfinity Center 885 South Main St. Mansfield MA Parking will be in back closer to the stage - follow the balloons!
UID:e.1730.1843
SEQUENCE:3
DTSTAMP:20260419T172323Z
URL:https://www.tri-townchamber.org/events/details/xfinity-backstage-business-after-hours-event-10-27-2015-1843
END:VEVENT

END:VCALENDAR
