BEGIN:VCALENDAR
VERSION:2.0
PRODID:-//ChamberMaster//Event Calendar 2.0//EN
METHOD:PUBLISH
X-PUBLISHED-TTL:P3D
REFRESH-INTERVAL:P3D
CALSCALE:GREGORIAN
BEGIN:VEVENT
DTSTART:20151124T130000Z
DTEND:20151124T143000Z
X-MICROSOFT-CDO-ALLDAYEVENT:FALSE
SUMMARY:World Champion of Public Speaking - at the Chamber
DESCRIPTION:World Champion of Public Speaking at the Chamber\n\n \n\nUnique opportunity to learn from a World Champion of Public Speaking\n\nOn Tuesday November 24 from 8:00-9:30am Darren LaCroix\, will be at the Chamber. Reserve your seat today   we have room for 25!\n\n\n	How well do you speak under pressure? What if it was easier?\n	What if you knew the secrets of the World Champion Speakers?\n\nYou will walk away with specific strategies that you can use in your very next presentation and/or speech!\n\n \n\nOut of 25\,000 contestants from 14 countries\, Darren LaCroix\, became the first person from New England to win the Olympic of Oratory since the contest began in 1938.  As a result of winning Darren has presented to Toastmasters in Malaysia\, Taiwan\, and Oman\, and has left his day job of 11 years to pursue keynote speaking and coaching full time.
X-ALT-DESC;FMTTYPE=text/html:<span style="font-size:14px\;"><span style="font-family:arial\;"><em><strong><span style="color:black\;">World Champion of Public Speaking at the Chamber</span></strong></em><br />\n&nbsp\;<br />\n<span style="color:black\;">Unique opportunity to learn from a World Champion of Public Speaking</span><br />\n<span style="color:black\;">On Tuesday November 24 from 8:00-9:30am Darren LaCroix\, will be at the Chamber. Reserve your seat today &ndash\; we have room for 25!</span></span></span>\n\n<ul>\n	<li><span style="font-size:14px\;"><span style="font-family:arial\;"><span style="color:black\;">How well do you speak under pressure? What if it was easier?</span></span></span></li>\n	<li><span style="font-size:14px\;"><span style="font-family:arial\;"><span style="color:black\;">What if you knew the secrets of the World Champion Speakers?</span></span></span></li>\n</ul>\n<span style="font-size:14px\;"><span style="font-family:arial\;"><span style="color:black\;">You will walk away with specific strategies that you can use in your very next presentation and/or speech!</span><br />\n&nbsp\;<br />\n<span style="color:black\;">Out of 25\,000 contestants from 14 countries\, Darren LaCroix\, became the first person from New England to win the Olympic of Oratory since the contest began in 1938.&nbsp\; As a result of winning Darren has presented to Toastmasters in Malaysia\, Taiwan\, and Oman\, and has left his day job of 11 years to pursue keynote speaking and coaching full time.</span><br />\n&nbsp\;&nbsp\;</span></span>
LOCATION:at The Chamber offices 280 School Street Mansfield MA
UID:e.1730.1877
SEQUENCE:3
DTSTAMP:20260419T154843Z
URL:https://www.tri-townchamber.org/events/details/world-champion-of-public-speaking-at-the-chamber-11-24-2015-1877
END:VEVENT

END:VCALENDAR
