BEGIN:VCALENDAR
VERSION:2.0
PRODID:-//ChamberMaster//Event Calendar 2.0//EN
METHOD:PUBLISH
X-PUBLISHED-TTL:P3D
REFRESH-INTERVAL:P3D
CALSCALE:GREGORIAN
BEGIN:VEVENT
DTSTART:20140326T114500Z
DTEND:20140326T134500Z
X-MICROSOFT-CDO-ALLDAYEVENT:FALSE
SUMMARY:Workforce Training Fund: One of Massachusetts' Best Kept Secrets.
DESCRIPTION:The Workforce Training Fund:  One of Massachusetts' Best Kept Secrets.    \n\nSince 1999 The Workforce Training Fund has been collecting between 18 and 21 million dollars a year via a surcharge tax paid by all Mass companies. The tax which amounts to 8.40 cents per year on every employee is collected through the quarterly Unemployment Tax paid by all Mass Business\n\n\n\nWednesday\, March 26\,  2014 from  7:45 a.m. - 9:45 a.m. held at the Tri-Town Chamber of Commerce\n\n \n\nDid you know that Massachusetts has a program to help pay for employee training and hiring?\n\nMany business owners and business leaders have goals on how to take their companies to new levels. These goals often require extensive and costly investment in employee training programs or even the hiring of new employees. In spite the potential benefits\, businesses are hesitant to allocate the resources needed to hire and train the quality help they need to reach those goals.\n\nThe Workforce Training Fund is 21 million dollar annual appropriation that is given out in the form of training grants to Massachusetts companies to help train their workers.  \n\n  In this session\, you'll learn:\n\n  How you and your company can benefit from these programs\n\n  The five grants available to businesses in Massachusetts\n\n  Which one(s) your company qualifies for\n\n  The process for applying\nCome learn about one of our state's best kept secrets so you can take advantage of an  effective program that has helped transform many businesses over the years.   \n\n\n\nThis seminar is a must-see for business owners\, key decision makers\, and their trusted advisors.  \n\n \n\nGuest Speaker  \n\nMichael Corcoran is the Workforce Training Program Marketing Coordinator. Mr. Corcoran has been with the program since its inception in 1999 and served as Operations Supervisor\, Lead Reviewer for both grant applications and financial information. Prior to the Workforce Training Fund Mr. Corcoran worked 30 years in the Insurance Industry.. \n\n \n\nSpace is limited - RSVP by March 24\, 2014 to reserve your spot!
X-ALT-DESC;FMTTYPE=text/html:The Workforce Training Fund:&nbsp\; One of Massachusetts&#39\; Best Kept Secrets.&nbsp\;&nbsp\;&nbsp\;&nbsp\;<br />\nSince 1999 The Workforce Training Fund has been collecting between 18 and 21 million dollars a year via a surcharge tax paid by all Mass companies. The tax which amounts to 8.40 cents per year on every employee is collected through the quarterly Unemployment Tax paid by all Mass Business<br />\n<br />\nWednesday\, March 26\,&nbsp\; 2014 from &nbsp\;7:45 a.m. - 9:45 a.m. held at the Tri-Town Chamber of Commerce<br />\n&nbsp\;<br />\nDid you know that Massachusetts has a program to help pay for employee training and hiring?<br />\nMany business owners and business leaders have goals on how to take their companies to new levels. These goals often require extensive and costly investment in employee training programs or even the hiring of new employees. In spite the potential benefits\, businesses are hesitant to allocate the resources needed to hire and train the quality help they need to reach those goals.<br />\nThe Workforce Training Fund is 21 million dollar annual appropriation that is given out in the form of training grants to Massachusetts companies to help train their workers.&nbsp\;&nbsp\;<br />\n<em>&nbsp\; In this session\, you&#39\;ll learn:</em>\n\n<div style="margin-left: 40px\;">&bull\; How you and your company can benefit from these programs<br />\n&bull\; The five grants available to businesses in Massachusetts<br />\n&bull\; Which one(s) your company qualifies for<br />\n&bull\; The process for applying</div>\nCome learn about one of our state&#39\;s best kept secrets so you can take advantage of an&nbsp\; effective program that has helped transform many businesses over the years.&nbsp\;&nbsp\;&nbsp\;<br />\n<br />\nThis seminar is a must-see for business owners\, key decision makers\, and their trusted advisors.&nbsp\;&nbsp\;<br />\n&nbsp\;<br />\n<em><strong>Guest Speaker&nbsp\;&nbsp\;</strong></em><br />\n<strong>Michael Corcoran </strong>is the Workforce Training Program Marketing Coordinator. Mr. Corcoran has been with the program since its inception in 1999 and served as Operations Supervisor\, Lead Reviewer for both grant applications and financial information. Prior to the Workforce Training Fund Mr. Corcoran worked 30 years in the Insurance Industry..&nbsp\;<br />\n&nbsp\;<br />\nSpace is limited - RSVP by March 24\, 2014 to reserve your spot!
LOCATION:at the Tri-Town Chamber of Commerce Building\, in the Barrows Insurance Agency Conference Room. Building located at 280 School Street\, within the Mansfield Crossing Shopping Plaza
UID:e.1730.976
SEQUENCE:3
DTSTAMP:20260421T034346Z
URL:https://www.tri-townchamber.org/events/details/workforce-training-fund-one-of-massachusetts-best-kept-secrets-03-26-2014-976
END:VEVENT

END:VCALENDAR
