BEGIN:VCALENDAR
VERSION:2.0
PRODID:-//ChamberMaster//Event Calendar 2.0//EN
METHOD:PUBLISH
X-PUBLISHED-TTL:P3D
REFRESH-INTERVAL:P3D
CALSCALE:GREGORIAN
BEGIN:VEVENT
DTSTART:20150909T123000Z
DTEND:20150909T140000Z
X-MICROSOFT-CDO-ALLDAYEVENT:FALSE
SUMMARY:Workforce Training Fund Information Session
DESCRIPTION:This information session will be led by Robert Vitello\, Director of Corporate Training at Bristol Community College's Workforce Center. The session will provide an overview of all of the Workforce Training Fund programs. Topics covered include: the features and requirements of each program\, funding availability\, and application process. Following the information session\, participants should be able to determine which grants are best suited for their business needs and know how to begin the application process.\n\nYou will also hear from Lynn Morley of Horizon Beverage in Norton\, who is currently implementing a Workforce Training Grant.\n\n \n\nThe information session lasts 1 1/2 hours and covers the following WTFP grant programs:\n\n\n	General Program\n	Express Program\n	Regional Training Capacity Pilot Program\n	Technical Assistance Grant\n\n \n\nPresenter: Robert Vitello\, is the Director of Corporate Services at Bristol Community College's Workforce Center since 2012.  Prior to joining BCC\, he worked for Commonwealth Corporation for 12 years managing the Applicant Assistance Program to the WTFP.  He has assisted SE MA companies in designing customized training for WTFP applications funded at over $10 million over the past ten years. \n\n \n\nFor more information about the Workforce Training Fund Program\, please visit our website: www.commcorp.org/wtfp.
X-ALT-DESC;FMTTYPE=text/html:<span style="font-size:16px\;"><span style="font-family:arial\;">This information session will be led by Robert Vitello\, Director of Corporate Training at Bristol Community College&rsquo\;s Workforce Center. The session will provide an overview of all of the Workforce Training Fund programs. Topics covered include: the features and requirements of each program\, funding availability\, and application process. Following the information session\, participants should be able to determine which grants are best suited for their business needs and know how to begin the application process.<br />\nYou will also hear from Lynn Morley of Horizon Beverage in Norton\, who is currently implementing a Workforce Training Grant.<br />\n&nbsp\;<br />\n<em>The information session lasts 1 1/2 hours and covers the following WTFP grant programs:</em></span></span>\n\n<ul>\n	<li><span style="font-size:16px\;"><span style="font-family:arial\;">General Program</span></span></li>\n	<li><span style="font-size:16px\;"><span style="font-family:arial\;">Express Program</span></span></li>\n	<li><span style="font-size:16px\;"><span style="font-family:arial\;">Regional Training Capacity Pilot Program</span></span></li>\n	<li><span style="font-size:16px\;"><span style="font-family:arial\;">Technical Assistance Grant</span></span></li>\n</ul>\n<span style="font-size:16px\;"><span style="font-family:arial\;">&nbsp\;<br />\n<em>Presenter: </em>Robert Vitello\, is the Director of Corporate Services at Bristol Community College&rsquo\;s Workforce Center since 2012.&nbsp\; Prior to joining BCC\, he worked for Commonwealth Corporation for 12 years managing the Applicant Assistance Program to the WTFP.&nbsp\; He has assisted SE MA companies in designing customized training for WTFP applications funded at over $10 million over the past ten years.&nbsp\;<br />\n&nbsp\;<br />\nFor more information about the Workforce Training Fund Program\, please visit our website: <a href="http://www.commcorp.org/wtfp">www.commcorp.org/wtfp</a>.</span></span>
LOCATION:at the Tri-Town Chamber of Commerce 280 School Street\, Bld L100\, Mansfield Enter main entrance of Mansfield Crossing\, follow signs for Kohls Department Store\, take the access road to the right of Kohl's and you will see the Chamber Building) Seminar will be held in the Davis Financial Conference Room
UID:e.1730.1667
SEQUENCE:3
DTSTAMP:20260419T185753Z
URL:https://www.tri-townchamber.org/events/details/workforce-training-fund-information-session-09-09-2015-1667
END:VEVENT

END:VCALENDAR
