BEGIN:VCALENDAR
VERSION:2.0
PRODID:-//ChamberMaster//Event Calendar 2.0//EN
METHOD:PUBLISH
X-PUBLISHED-TTL:P3D
REFRESH-INTERVAL:P3D
CALSCALE:GREGORIAN
BEGIN:VEVENT
DTSTART:20141030T120000Z
DTEND:20141030T133000Z
X-MICROSOFT-CDO-ALLDAYEVENT:FALSE
SUMMARY:Women's Link - What Could Be Different in Your Life?
DESCRIPTION:OCTOBER WOMEN'S LINK PRESENTS\n\nKaren Benz   Business Legacy Consulting\, Inc. and Vistage Chair\, Vistage International\n\n \n\nWhat could be different in your life? \n\n\n	Do you want more clients/customers?  Different types of clients/customers?  Better personal and professional relationships?  Or  just an improved work environment?\n	Have you ever "wished" that someone in your life could better understand and accommodate you?  Your partner\, your boss\, your co-workers?\n	Have you ever left a meeting thinking "that was great!" only to find out later that others didn't share your view? \n	Do you find yourself frustrated in your job\, your work\, your marriage/relationships? \n\nIf you are like most people\, you have experienced one or even all of these.  Human behavior is complex and in many ways\, misunderstood.  However\, with a few new tools in your toolbox\, you will learn to better navigate relationships\, sales calls\, and workplaces.\n\n \n\nIn this workshop\, we will explore behavioral styles and how understanding Steven Covey's 7th Habit:  "Seek to understand before being understood" can be life-changing.   You will discover how understanding others is the true key to your success and happiness in all parts of your life.\n\n\n\n_______________________________________\nKaren A. Benz\, M.S.\n\nCertified Professional Behavioral Analyst\n\n\n\nKaren is the co-founder of Business Legacy Consulting\, Inc.\, and is currently a Vistage Chair for Vistage International   working with CEO peer advisory groups.  She is also an adjunct faculty member in the Gabelli School of Business at Roger Williams University.\n\n\n\nKaren's focus is on business consulting\, strategy\, leadership development\, executive coaching and facilitation\, with an emphasis on improving individual and organizational performance. Her consulting practice began in 1996 working with clients in many industries including manufacturing\, finance\, hospitality\, health care\, government\, education and non-profits. Her varied business career includes working in a large nonprofit medical facility as the Chief Operating Officer where she was responsible for the day-to-day operations and a staff of over 100. Her responsibilities included human resources\, business operations\, marketing and public relations\, project management\, facility planning and construction management\, and community relations.\n\n\n\nKaren is a graduate of Bryant College with a B.S. in Business Administration\, as well as Salve Regina University with an M.S. in Management where she was a member of the Sigma Beta Delta Business Honor Society. In 2007\, she completed a Mastermind Management Consulting Program held in Dublin\, Ireland. As a follow-up to this program\, she was certified in the Rubicon Leadership Training Program in Scottsdale\, Arizona in 2009. Additionally\, she has graduated from Corporate Coach University (Executive Coaching Program) and has certifications in DISC\, PIAV\, Trimetrix\, and DNA   behavioral assessments from Target Training International.\n\n\n\nKaren has a strong background in teaching and training. She currently teaches "Enterprise"   in the Gabelli School of Business at Roger Williams University and has taught a variety of undergraduate and graduate business courses at UMass Dartmouth\, Providence College\, the University of Rhode Island\, and the Community College of Rhode Island.\n\n\n\nkaren@businesslegacyconsulting.com
X-ALT-DESC;FMTTYPE=text/html:OCTOBER WOMEN&rsquo\;S LINK PRESENTS<br />\n<em>Karen Benz &ndash\; Business Legacy Consulting\, Inc. and Vistage Chair\, Vistage International</em><br />\n&nbsp\;<br />\n<strong>What could be different in your life?&nbsp\;</strong>\n\n<ul>\n	<li>Do you want more clients/customers?&nbsp\; Different types of clients/customers?&nbsp\; Better personal and professional relationships?&nbsp\; Or&hellip\; just an improved work environment?</li>\n	<li>Have you ever &ldquo\;wished&rdquo\; that someone in your life could better understand and accommodate you?&nbsp\; Your partner\, your boss\, your co-workers?</li>\n	<li>Have you ever left a meeting thinking &ldquo\;that was great!&rdquo\; only to find out later that others didn&rsquo\;t share your view?&nbsp\;</li>\n	<li>Do you find yourself frustrated in your job\, your work\, your marriage/relationships?<span style="line-height: 1.6\;">&nbsp\;</span></li>\n</ul>\nIf you are like most people\, you have experienced one or even all of these.&nbsp\; Human behavior is complex and in many ways\, misunderstood.&nbsp\; However\, with a few new tools in your toolbox\, you will learn to better navigate relationships\, sales calls\, and workplaces.<br />\n&nbsp\;<br />\nIn this workshop\, we will explore behavioral styles and how understanding Steven Covey&rsquo\;s 7th Habit:&nbsp\; &ldquo\;Seek to understand before being understood&rdquo\; can be life-changing.&nbsp\;&nbsp\; You will discover how understanding others is the true key to your success and happiness in all parts of your life.<br />\n<br />\n_______________________________________\n<div style="margin-left: 40px\;"><em><span style="color: rgb(10\, 61\, 122)\; font-family: verdana\, sans-serif\;">Karen A. Benz\, M.S.</span><br />\n<span style="font-family:verdana\,sans-serif\;"><span style="font-size:9pt\;">Certified Professional Behavioral Analyst</span></span><br />\n<br />\n<span style="font-family:verdana\,sans-serif\;"><span style="font-size:9pt\;">Karen is the co-founder of Business Legacy Consulting\, Inc.\, and is currently a Vistage Chair for Vistage International &ndash\; working with CEO peer advisory groups.&nbsp\; She is also an adjunct faculty member in the Gabelli School of Business at Roger Williams University.</span></span><br />\n<br />\n<span style="font-family:verdana\,sans-serif\;"><span style="font-size:9pt\;">Karen&#39\;s focus is on business consulting\, strategy\, leadership development\, executive coaching and facilitation\, with an emphasis on improving individual and organizational performance. Her consulting practice began in 1996 working with clients in many industries including manufacturing\, finance\, hospitality\, health care\, government\, education and non-profits. Her varied business career includes working in a large nonprofit medical facility as the Chief Operating Officer where she was responsible for the day-to-day operations and a staff of over 100. Her responsibilities included human resources\, business operations\, marketing and public relations\, project management\, facility planning and construction management\, and community relations.</span></span><br />\n<br />\n<span style="font-family:verdana\,sans-serif\;"><span style="font-size:9pt\;">Karen is a graduate of Bryant College with a B.S. in Business Administration\, as well as Salve Regina University with an M.S. in Management where she was a member of the Sigma Beta Delta Business Honor Society. In 2007\, she completed a Mastermind Management Consulting Program held in Dublin\, Ireland. As a follow-up to this program\, she was certified in the Rubicon Leadership Training Program in Scottsdale\, Arizona in 2009. Additionally\, she has graduated from Corporate Coach University (Executive Coaching Program) and has certifications in DISC\, PIAV\, Trimetrix\, and DNA &ndash\; behavioral assessments from Target Training International.<br />\n<br />\nKaren has a strong background in teaching and training. She currently teaches &ldquo\;Enterprise&rdquo\; &ndash\; in the Gabelli School of Business at Roger Williams University and has taught a variety of undergraduate and graduate business courses at UMass Dartmouth\, Providence College\, the University of Rhode Island\, and the Community College of Rhode Island.</span></span><br />\n<br />\n<a href="mailto:karen@businesslegacyconsulting.com"><span style="color:blue\;"><span style="font-family:verdana\,sans-serif\;"><span style="font-size:9.0pt\;">karen@businesslegacyconsulting.com</span></span></span></a></em></div>\n
LOCATION:Foxborough Country Club 33 Walnut Street Foxborough\, MA
UID:e.1730.1057
SEQUENCE:3
DTSTAMP:20260420T133401Z
URL:https://www.tri-townchamber.org/events/details/women-s-link-what-could-be-different-in-your-life-10-30-2014-1057
END:VEVENT

END:VCALENDAR
