BEGIN:VCALENDAR
VERSION:2.0
PRODID:-//ChamberMaster//Event Calendar 2.0//EN
METHOD:PUBLISH
X-PUBLISHED-TTL:P3D
REFRESH-INTERVAL:P3D
CALSCALE:GREGORIAN
BEGIN:VEVENT
DTSTART:20140430T113000Z
DTEND:20140430T130000Z
X-MICROSOFT-CDO-ALLDAYEVENT:FALSE
SUMMARY:Women's Link - Self Defense
DESCRIPTION:Your invited to the next Women's Link\, in support of National Violence Prevention Month we bring you a\;\n\n"Self Defense Seminar" By attending this Women's Link your will learn:\n\n\n	How to protect yourself in any situation with easy\, memorable steps\n	How to distinguish a dangerous situation and learn how to escape it\n	How to protect the ones you love\n\n \n\n"While this will be an instructional class\, regular business attire is fine. All attendees will be asked to remove shoes while they are on the mats for the demonstrations"\n\n \n\nAgenda for the Morning:   \n\n7:30am Doors Open / Registration\n\n7:30am-8:00am Continental Breakfast and Networking\n\n8:00-9:00 an hour long seminar\n\n \n\nPersonal Best Karate is designed to make you strong--body and mind--while having fun\, and learning the philosophy of our Martial Arts style. Our classes will show immediate improvement in your wellness\, strength\, flexibility\, balance\, coordination\, and self-control. We offer karate and kickboxing classes to motivate and inspire you for better health.\n\n \n\nThe Women's Link brings women together to Enrich\, Educate and Inspire.\n\n Mission: The Tri-Town Chamber of Commerce's Women's Link provides an opportunity for women to connect\, support\, and learn from each other's professional growth.  Each quarter we have a live meeting where a successful business woman - or women - shares the story of their professional journey.  All are welcome to join!\n\n \n\n	H.U.G.S. (Help Us Get Safe) of Foxboro is a non-profit\, volunteer organization established to assist individuals and families affected by domestic violence.\n	New Hope New Hope\, Inc. is a non-profit human services agency with over 30 years' experience in assisting people in crisis and delivering innovative\, quality services. New Hope offers comprehensive individual and family support services through five complementary programs.\n\n \n\nUnderwritten by: Brigham and Women's/Mass General Health Care Center
X-ALT-DESC;FMTTYPE=text/html:Your invited to the next Women&rsquo\;s Link\, in support of National Violence Prevention Month we bring you a\;<br />\n<strong>&quot\;Self Defense Seminar&quot\;</strong> By attending this Women&#39\;s Link your will learn:\n\n<ul>\n	<li>How to protect yourself in any situation with easy\, memorable steps</li>\n	<li>How to distinguish a dangerous situation and learn how to escape it</li>\n	<li>How to protect the ones you love</li>\n</ul>\n&nbsp\;<br />\n&ldquo\;While this will be an instructional class\, regular business attire is fine. All attendees will be asked to remove shoes while they are on the mats for the demonstrations&rdquo\;<br />\n&nbsp\;<br />\nAgenda for the Morning:&nbsp\;&nbsp\;&nbsp\;<br />\n7:30am Doors Open / Registration<br />\n7:30am-8:00am Continental Breakfast and Networking<br />\n8:00-9:00 an hour long seminar<br />\n&nbsp\;<br />\nPersonal Best Karate is designed to make you strong--body and mind--while having fun\, and learning the philosophy of our Martial Arts style. Our classes will show immediate improvement in your wellness\, strength\, flexibility\, balance\, coordination\, and self-control. We offer karate and kickboxing classes to motivate and inspire you for better health.<br />\n&nbsp\;<br />\n<em><strong>The Women&#39\;s Link brings women together to Enrich\, Educate and Inspire.</strong></em><br />\n<strong>&nbsp\;Mission: </strong>The Tri-Town Chamber of Commerce&#39\;s Women&#39\;s Link provides an opportunity for women to connect\, support\, and learn from each other&rsquo\;s professional growth.&nbsp\; Each quarter we have a live meeting where a successful business woman - or women - shares the story of their professional journey.&nbsp\; All are welcome to join!<br />\n&nbsp\;\n<ul>\n	<li><strong>H.U.G.S. (Help Us Get Safe) </strong>of Foxboro is a non-profit\, volunteer organization established to assist individuals and families affected by domestic violence.</li>\n	<li><strong>New Hope New Hope\, Inc.</strong> is a non-profit human services agency with over 30 years&rsquo\; experience in assisting people in crisis and delivering innovative\, quality services. New Hope offers comprehensive individual and family support services through five complementary programs.</li>\n</ul>\n&nbsp\;<br />\nUnderwritten by: <span style="font-size:20px\;"><strong>Brigham and Women&#39\;s/Mass General Health Care Center</strong></span>
LOCATION:Personal Best Karate\, 250 East Main Street In Norton
UID:e.1730.986
SEQUENCE:3
DTSTAMP:20260421T014902Z
URL:https://www.tri-townchamber.org/events/details/women-s-link-self-defense-04-30-2014-986
END:VEVENT

END:VCALENDAR
