BEGIN:VCALENDAR
VERSION:2.0
PRODID:-//ChamberMaster//Event Calendar 2.0//EN
METHOD:PUBLISH
X-PUBLISHED-TTL:P3D
REFRESH-INTERVAL:P3D
CALSCALE:GREGORIAN
BEGIN:VEVENT
DTSTART:20130924T210000Z
DTEND:20130925T000000Z
X-MICROSOFT-CDO-ALLDAYEVENT:FALSE
SUMMARY:Women's Link - De-Junk Your Life - Special Evening Event
DESCRIPTION:Special Evening Women's Link at the Gorgeous TPC Clubhouse in Norton Mass.\n\nYou're invited To DeJunk  Your Life Today!\n\nJoin us for this unique program on how to de-junk your life and have fun doing it.\n\n\n	\n		Way Too Much on Our Plates Comedy by Candace Salalle\n	\n		Managing Your Time for Success Tamara Myles\, Tamara Myles Consulting\n	\n		Improving Your Productivity In Your Office Anne Langton\, Langton Home Offices\n\nManaging Your Time for Success.   Tamara Myles introduces the Three P's of Time\n\nManagement   Plan\, Prioritize\, and Perform!\n\n   Plan Identify everything you need to do and want to do\n\n   Prioritize Identify what you should do first\, second\, or never\n\n   Perform Commit to your plan by avoiding time wasters\n\nYou will learn how to move from simply "surviving" your job\, to "succeeding" in it\, and be introduced to the concept of time management as choice management.\n\nTamara Myles of Tamara Myles Consulting (TMC). She is the author of The Secret to Peak Productivity: A Simple Guide to Reaching Your Personal Best\, and is dedicated to providing comprehensive consulting to business professionals who want to maximize productivity\, optimize efficiency and increase profitability.\n\n \n\nImproving Productivity In Your Office   Anne Langton will teach you the simple steps to get rid of paper piles. With her experience as an office designer\, she will also talk about correct desk ergonomics and what to look for in a good ergonomic desk chair.\n\nYou will walk away learning:\n\n    How to tackle those endless paper piles painlessly\n\n    The art (and science) of healthy sitting at your desk\n\n    Features to look for in a good ergonomic chair\n\nAnne Langton: owner of Langton Home Offices believes "Sometimes a client needs organizational guidance\, "sometimes they need design direction and many times they need both in order to achieve their goals. As a professional organizer and interior designer\, I can help clients get beyond the state of being overwhelmed and move forward."\n\n\n\nSponsored by: Mansfield Bank             \n\nUnderwritten by: Brigham and Women's/Mass General Health Care Center
X-ALT-DESC;FMTTYPE=text/html:<span style="font-size:12px\;">Special Evening <strong>Women&#39\;s Link</strong> at the Gorgeous TPC Clubhouse in Norton Mass.<br />\n<strong>You&rsquo\;re invited To DeJunk&nbsp\; Your Life Today!</strong><br />\n<em>Join us for this unique program on how to de-junk your life and have fun doing it.</em></span><br />\n<ul>\n	<li>\n		<span style="font-size:12px\;"><span style="font-family:arial\;"><strong>Way Too Much on Our Plates </strong><em>Comedy by Candace Salalle</em></span></span></li>\n	<li>\n		<span style="font-size:12px\;"><span style="font-family:arial\;"><strong>Managing Your Time for Success&nbsp\;</strong><em>Tamara Myles\, Tamara Myles Consulting</em></span></span></li>\n	<li>\n		<span style="font-size:12px\;"><span style="font-family:arial\;"><strong>Improving Your Productivity In Your Office&nbsp\;</strong><em>Anne Langton\, Langton Home Offices</em></span></span></li>\n</ul>\n<span style="font-size:12px\;"><strong>Managing Your Time for Success. &nbsp\;</strong>&nbsp\;Tamara Myles introduces the Three P&rsquo\;s of Time<br />\nManagement &ndash\; Plan\, Prioritize\, and Perform!<br />\n&middot\; &nbsp\;Plan Identify everything you need to do and want to do<br />\n&middot\; &nbsp\;Prioritize Identify what you should do first\, second\, or never<br />\n&middot\; &nbsp\;Perform Commit to your plan by avoiding time wasters<br />\nYou will learn how to move from simply &ldquo\;surviving&rdquo\; your job\, to &ldquo\;succeeding&rdquo\; in it\, and be&nbsp\;introduced to the concept of time management as choice management.<br />\n<em>Tamara Myles of Tamara Myles Consulting (TMC). She is the author of The Secret to Peak Productivity: A Simple Guide to Reaching Your Personal Best\, and is dedicated to providing comprehensive consulting to business professionals who want to maximize productivity\, optimize efficiency and increase profitability.</em><br />\n&nbsp\;<br />\n<strong>Improving Productivity In Your Office </strong>&nbsp\;&nbsp\;Anne Langton will teach you the simple steps to get rid of paper piles. With her experience as an office designer\, she will also talk about correct desk ergonomics and what to look for in a good ergonomic desk chair.<br />\nYou will walk away learning:<br />\n&middot\; &nbsp\; How to tackle those endless paper piles&hellip\;painlessly<br />\n&middot\; &nbsp\; The art (and science) of healthy sitting at your desk<br />\n&middot\; &nbsp\; Features to look for in a good ergonomic chair<br />\n<em>Anne Langton: owner of Langton Home Offices believes &ldquo\;Sometimes a client needs organizational guidance\, &ldquo\;sometimes they need design direction and many times they need both in order to achieve their goals. As a professional organizer and interior designer\, I can help clients get beyond the state of being overwhelmed and move forward.&rdquo\;</em></span><br />\n<br />\n<span style="font-size:12px\;"><span style="color:black\;"><span style="font-family:arial\,sans-serif\;">Sponsored by:</span></span></span><span style="color:black\;"><span style="font-family:arial\,sans-serif\;"><span style="font-size:26.0pt\;"><span style="font-size:12px\;"> </span><span style="font-size:20px\;"><strong>Mansfield Bank</strong></span>&nbsp\; &nbsp\; &nbsp\; &nbsp\; &nbsp\; &nbsp\; &nbsp\;</span></span></span><br />\n<span style="font-size:12px\;"><span style="color:black\;"><span style="font-family:arial\,sans-serif\;">Underwritten by: </span></span></span><span style="font-size:18px\;"><strong><span style="color:black\;"><span style="font-family:arial\,sans-serif\;">Brigham and Women&#39\;s/Mass General Health Care Center</span></span></strong></span><br />\n<br />\n
LOCATION:TPC Clubhouse in Norton at 300 Arnold Palmer Boulevard. Follow Arnold Palmer Boulevard to the end\, you will pass the Golf Museum\, proceed through gate at the guard shack and the clubhouse will be at the end of the road.
UID:e.1730.393
SEQUENCE:3
DTSTAMP:20260421T113804Z
URL:https://www.tri-townchamber.org/events/details/women-s-link-de-junk-your-life-special-evening-event-09-24-2013-393
END:VEVENT

END:VCALENDAR
