BEGIN:VCALENDAR
VERSION:2.0
PRODID:-//ChamberMaster//Event Calendar 2.0//EN
METHOD:PUBLISH
X-PUBLISHED-TTL:P3D
REFRESH-INTERVAL:P3D
CALSCALE:GREGORIAN
BEGIN:VEVENT
DTSTART:20141024T160000Z
DTEND:20141024T183000Z
X-MICROSOFT-CDO-ALLDAYEVENT:FALSE
SUMMARY:Wheaton College Internship & Career Resource Fair
DESCRIPTION:The Staff of the Career Services Office at Wheaton College enthusiastically invite you or a representative from your organization to attend our: Internship and Career Resource Fair At this event you will have the opportunity to connect with engaged and talented students in all stages of the career development process who are interested in learning about varied internship and job opportunities. Registration is quick\, easy and free! To reserve your table\, please reply by Friday\, 10/17 to Barbara Carnevale\, Employer Relations Manager\, at carnevale_barbara@wheatoncollege.edu or call (508) 286-3552. A confirmation with location and parking details will be sent upon registration. Thank you. We hope to see you on October 24th!
X-ALT-DESC;FMTTYPE=text/html:The Staff of the Career Services Office at Wheaton College enthusiastically invite you or a representative from your organization to attend our: Internship and Career Resource Fair At this event you will have the opportunity to connect with engaged and talented students in all stages of the career development process who are interested in learning about varied internship and job opportunities. Registration is quick\, easy and free! To reserve your table\, please reply by Friday\, 10/17 to Barbara Carnevale\, Employer Relations Manager\, at carnevale_barbara@wheatoncollege.edu or call (508) 286-3552. A confirmation with location and parking details will be sent upon registration. Thank you. We hope to see you on October 24th!
LOCATION:Balfour-Hood Center Wheaton College
UID:e.1730.1080
SEQUENCE:3
DTSTAMP:20260420T150410Z
URL:https://www.tri-townchamber.org/events/details/wheaton-college-internship-career-resource-fair-10-24-2014-1080
END:VEVENT

END:VCALENDAR
