BEGIN:VCALENDAR
VERSION:2.0
PRODID:-//ChamberMaster//Event Calendar 2.0//EN
METHOD:PUBLISH
X-PUBLISHED-TTL:P3D
REFRESH-INTERVAL:P3D
CALSCALE:GREGORIAN
BEGIN:VEVENT
DTSTART:20140107T130000Z
DTEND:20140107T143000Z
X-MICROSOFT-CDO-ALLDAYEVENT:FALSE
SUMMARY:What will the State Minimum Wage Increase Mean for Your Business?
DESCRIPTION:What Will the State Minimum Wage Increase Mean for Your Business?\n\nJoin the Tri-Town Chamber of Commerce for a discussion with State Senator Jim Timilty\, Representatives\; Jay Barrows\, Betty Poirier and Steve Howitt\n\n \n\nThe Massachusetts State Senate voted to raise the state's minimum wage from $8 an hour to $11 an hour over three years.\n\nUnder the amended bill\, the minimum wage would increase to $9 an hour on July 1\, 2014\, $10 an hour on July 1\, 2015\, and $11 an hour starting July 1\, 2016.  The Senate also voted 31-7 to increase the wage for tipped employees to half the minimum wage. The tipped wage is currently $2.63 per hour.\n\nThe bill now moves to the state House of Representatives\, which will likely not vote on a minimum wage bill until sometime next year.  If it is passed by the House and signed into law by the governor\, it would be the highest state minimum wage in the country.
X-ALT-DESC;FMTTYPE=text/html:<strong>What Will the State Minimum Wage Increase Mean for Your Business?</strong><br />\nJoin the Tri-Town Chamber of Commerce for a discussion with State Senator Jim Timilty\, Representatives\; Jay Barrows\, Betty Poirier and Steve Howitt<br />\n&nbsp\;<br />\n<em>The Massachusetts State Senate voted to raise the state&#39\;s minimum wage from $8 an hour to $11 an hour over three years.</em><br />\n<em>Under the amended bill\, the minimum wage would increase to $9 an hour on July 1\, 2014\, $10 an hour on July 1\, 2015\, and $11 an hour starting July 1\, 2016.&nbsp\; The Senate also voted 31-7 to increase the wage for tipped employees to half the minimum wage. The tipped wage is currently $2.63 per hour.</em><br />\n<em>The bill now moves to the state House of Representatives\, which will likely not vote on a minimum wage bill until sometime next year.&nbsp\; If it is passed by the House and signed into law by the governor\, it would be the highest state minimum wage in the country.</em><br />\n&nbsp\;<br />\n
LOCATION:Tri-Town Chamber of Commerce\, 280 School Street\, Mansfield MA
UID:e.1730.452
SEQUENCE:3
DTSTAMP:20260421T051750Z
URL:https://www.tri-townchamber.org/events/details/what-will-the-state-minimum-wage-increase-mean-for-your-business-01-07-2014-452
END:VEVENT

END:VCALENDAR
