BEGIN:VCALENDAR
VERSION:2.0
PRODID:-//ChamberMaster//Event Calendar 2.0//EN
METHOD:PUBLISH
X-PUBLISHED-TTL:P3D
REFRESH-INTERVAL:P3D
CALSCALE:GREGORIAN
BEGIN:VEVENT
DTSTART:20131009T114500Z
DTEND:20131009T130000Z
X-MICROSOFT-CDO-ALLDAYEVENT:FALSE
SUMMARY:What's New with Social Media
DESCRIPTION:Are you on Facebook\, LinkedIn\, Twitter and Google plus?  Do you find it hard to keep up with all the changed?  Join us and learn what's new on your favorite social networks.  We'll also talk about social media trends for 2013. This class is open discussion so bring your questions.  We'll focus on LinkedIn and Facebook.  If you're interested in other social media sites\, let us know when you register.
X-ALT-DESC;FMTTYPE=text/html:<span style="font-size:14px\;">Are you on Facebook\, LinkedIn\, Twitter and Google plus?&nbsp\; Do you find it hard to keep up with all the changed?&nbsp\; Join us and learn what&rsquo\;s new on your favorite social networks.&nbsp\; We&rsquo\;ll also talk about social media trends for 2013. This class is open discussion so bring your questions.&nbsp\; We&rsquo\;ll focus on LinkedIn and Facebook.&nbsp\; If you&rsquo\;re interested in other social media sites\, let us know when you register.</span><br />\n
LOCATION:Located at the Tri-Town Chamber of Commerce Building in the Deutsche Bank Championship Conference Room at 280 School St.\, Mansfield\, MA (the building is located to the right and set behind Kohl's)
UID:e.1730.387
SEQUENCE:3
DTSTAMP:20260421T100432Z
URL:https://www.tri-townchamber.org/events/details/what-s-new-with-social-media-10-09-2013-387
END:VEVENT

END:VCALENDAR
