BEGIN:VCALENDAR
VERSION:2.0
PRODID:-//ChamberMaster//Event Calendar 2.0//EN
METHOD:PUBLISH
X-PUBLISHED-TTL:P3D
REFRESH-INTERVAL:P3D
CALSCALE:GREGORIAN
BEGIN:VEVENT
DTSTART:20150211T130000Z
DTEND:20150211T140000Z
X-MICROSOFT-CDO-ALLDAYEVENT:FALSE
SUMMARY:What does the Affordable Care Act have to do with your taxes?
DESCRIPTION:What does the Affordable Care Act have to do with your taxes?\n\n \n\nDo you have questions about the ACA and how you may be impacted? Find out who qualifies for tax credits\, who may face a tax penalty\, what exemptions are available and who may qualify for them.  Plus\, how do these changes impact your business? \n\nWhat is the Small Employer Health Insurance Credit and who is eligible? \n\nWe'll go over all of this\, and answer any other questions you may have.\n\n \n\nPresented by: Fran Manchuso and Robin Hull  HR Block
X-ALT-DESC;FMTTYPE=text/html:What does the Affordable Care Act have to do with your taxes?<br />\n&nbsp\;<br />\nDo you have questions about the ACA and how you may be impacted? Find out who qualifies for tax credits\, who may face a tax penalty\, what exemptions are available and who may qualify for them.&nbsp\; Plus\, how do these changes impact your business?&nbsp\;<br />\nWhat is the Small Employer Health Insurance Credit and who is eligible?&nbsp\;<br />\nWe&#39\;ll go over all of this\, and answer any other questions you may have.<br />\n&nbsp\;<br />\nPresented by: Fran Manchuso and Robin Hull&nbsp\; HR Block<br />\n&nbsp\;
LOCATION:at the Tri-Town Chamber of Commerce Building 280 School St.\, Building L100 - Mandsfield MA
UID:e.1730.1268
SEQUENCE:3
DTSTAMP:20260420T065226Z
URL:https://www.tri-townchamber.org/events/details/what-does-the-affordable-care-act-have-to-do-with-your-taxes-02-11-2015-1268
END:VEVENT

END:VCALENDAR
