BEGIN:VCALENDAR
VERSION:2.0
PRODID:-//ChamberMaster//Event Calendar 2.0//EN
METHOD:PUBLISH
X-PUBLISHED-TTL:P3D
REFRESH-INTERVAL:P3D
CALSCALE:GREGORIAN
BEGIN:VEVENT
DTSTART:20150505T220000Z
DTEND:20150506T000000Z
X-MICROSOFT-CDO-ALLDAYEVENT:FALSE
SUMMARY:Vein Care Lecture & Screenings
DESCRIPTION:In conjunction with the Hockomock Area YMCA\, Brigham and Women's/Mass General Health Care Center provider Susan O'Horo MD will host a free vein care lecture followed by vein screenings.  Learn about treatments appropriate to deal with varicose veins and the underlying medical conditions they can signify.  If you suffer from circulation problems this lecture will address your questions. Free and open to all\; registration required. \n\n \n\nCo-sponsored by Brigham and Women's/Mass General Health Care Center and the Hockomock Area YMCA/Invensys Foxboro Branch
X-ALT-DESC;FMTTYPE=text/html:<span style="font-size: 14px\;"><span style="font-family: cambria\;">In conjunction with the Hockomock Area YMCA\, Brigham and Women&#39\;s/Mass General Health Care Center provider&nbsp\;Susan O&rsquo\;Horo MD&nbsp\;will host a free vein care lecture followed by vein screenings.&nbsp\; Learn about treatments appropriate to deal with varicose veins and the underlying medical conditions they can signify.&nbsp\; If you suffer from circulation problems this lecture will address your questions.&nbsp\;Free and open to all\; registration required.&nbsp\;</span><br />\n&nbsp\;<br />\n<em><span style="font-family: cambria\;">Co-sponsored by Brigham and Women&rsquo\;s/Mass General Health Care Center and the Hockomock Area YMCA/Invensys Foxboro Branch</span></em></span><br />\n&nbsp\;
LOCATION:Hockomock Area YMCA/Invensys Foxboro Branch 67 Mechanic Street Foxborough\, MA
UID:e.1730.1643
SEQUENCE:3
DTSTAMP:20260420T032416Z
URL:https://www.tri-townchamber.org/events/details/vein-care-lecture-screenings-05-05-2015-1643
END:VEVENT

END:VCALENDAR
