BEGIN:VCALENDAR
VERSION:2.0
PRODID:-//ChamberMaster//Event Calendar 2.0//EN
METHOD:PUBLISH
X-PUBLISHED-TTL:P3D
REFRESH-INTERVAL:P3D
CALSCALE:GREGORIAN
BEGIN:VEVENT
DTSTART:20150620T140000Z
DTEND:20150620T170000Z
X-MICROSOFT-CDO-ALLDAYEVENT:FALSE
SUMMARY:United Way Day of Action
DESCRIPTION:United Way of Greater Attleboro/Taunton\, Inc. will be participating in Day of Action. United Way Day of Action is an invitation for people and organizations around the world to LIVE UNITED and take action to address a variety of challenges. It is a day that we ask you to help us put our mission into action by advancing the common good and improving the building blocks for a good quality of life\n\neducation\, financial stability\, and health.\n\nUWGAT will be going out to our communities to distribute information and raise awareness about United Way and the free non-emergency assistance program called Mass 2-1-1. If you are interested in participating or would like to find out other ways to get involved\, please contact Kailee Wilson at 508-222-2337 ext. 121 or kailee@uwgat.org.
X-ALT-DESC;FMTTYPE=text/html:United Way of Greater Attleboro/Taunton\, Inc. will be participating in Day of Action. United Way Day of Action is an invitation for people and organizations around the world to LIVE UNITED and take action to address a variety of challenges. It is a day that we ask you to help us put our mission into action by advancing the common good and improving the building blocks for a good quality of life<br />\neducation\, financial stability\, and health.<br />\nUWGAT will be going out to our communities to distribute information and raise awareness about United Way and the free non-emergency assistance program called Mass 2-1-1. If you are interested in participating or would like to find out other ways to get involved\, please contact Kailee Wilson at 508-222-2337 ext. 121 or kailee@uwgat.org.
LOCATION:
UID:e.1730.1666
SEQUENCE:3
DTSTAMP:20260420T001005Z
URL:https://www.tri-townchamber.org/events/details/united-way-day-of-action-06-20-2015-1666
END:VEVENT

END:VCALENDAR
