BEGIN:VCALENDAR
VERSION:2.0
PRODID:-//ChamberMaster//Event Calendar 2.0//EN
METHOD:PUBLISH
X-PUBLISHED-TTL:P3D
REFRESH-INTERVAL:P3D
CALSCALE:GREGORIAN
BEGIN:VEVENT
DTSTART:20141219T130000Z
DTEND:20141219T143000Z
X-MICROSOFT-CDO-ALLDAYEVENT:FALSE
SUMMARY:Understanding facebook for Buisness
DESCRIPTION:Facebook\, for many businesses is a way to connect with past\, present and potential customers.  Join us and learn the basics of using Facebook for business\, how to engage past\, present and potential customers\, and how your customer is using Facebook to find you. This class is open to beginners\, as well as\, experience Facebook users.  The class format is open discussion\, so bring your questions.  We'll be offering Facing Facebook every other month\, so come back often.
X-ALT-DESC;FMTTYPE=text/html:Facebook\, for many businesses is a way to connect with past\, present and potential customers.&nbsp\; Join us and learn the basics of using Facebook for business\, how to engage past\, present and potential customers\, and how your customer is using Facebook to find you. This class is open to beginners\, as well as\, experience Facebook users.&nbsp\; The class format is open discussion\, so bring your questions.&nbsp\; We&rsquo\;ll be offering Facing Facebook every other month\, so come back often.<br />\n
LOCATION:At the Tri-Town Chamber of Commerce in the Barrows Insurance Agency Conference Room. The Chamber is located within Mansfield Crossing shopping Center\, our building is back behind Kohls Department Store.
UID:e.1730.837
SEQUENCE:3
DTSTAMP:20260420T100537Z
URL:https://www.tri-townchamber.org/events/details/understanding-facebook-for-buisness-12-19-2014-837
END:VEVENT

END:VCALENDAR
