BEGIN:VCALENDAR
VERSION:2.0
PRODID:-//ChamberMaster//Event Calendar 2.0//EN
METHOD:PUBLISH
X-PUBLISHED-TTL:P3D
REFRESH-INTERVAL:P3D
CALSCALE:GREGORIAN
BEGIN:VEVENT
DTSTART:20131213T123000Z
DTEND:20131213T140000Z
X-MICROSOFT-CDO-ALLDAYEVENT:FALSE
SUMMARY:Two Ounces of Prevention: Legal Risk Management for Business Owners
DESCRIPTION:Join us on Friday\, 12/13 at 7:30 a.m. for a free seminar designed for small business owners and those who advise them.  We will have open networking from 7:30 a.m.-8:00 a.m.\, followed by a 1-hour seminar.  There will be time for additional networking after the seminar.  Food and drink will be available at no charge.  The speakers will be Attorney Tom Marks of Mansfield and Steve Davis of Davis Financial in Mansfield.
X-ALT-DESC;FMTTYPE=text/html:Join us on Friday\, 12/13 at 7:30 a.m. for a free seminar designed for small business owners and those who advise them.&nbsp\; We will have open networking from 7:30 a.m.-8:00 a.m.\, followed by a 1-hour seminar.&nbsp\; There will be time for additional networking after the seminar.&nbsp\; Food and drink will be available at no charge.&nbsp\; The speakers will be Attorney Tom Marks of Mansfield and Steve Davis of Davis Financial in Mansfield.
LOCATION:Holiday Inn\, 31 Hampshire Street\, Mansfield MA
UID:e.1730.445
SEQUENCE:3
DTSTAMP:20260421T064605Z
URL:https://www.tri-townchamber.org/events/details/two-ounces-of-prevention-legal-risk-management-for-business-owners-12-13-2013-445
END:VEVENT

END:VCALENDAR
