BEGIN:VCALENDAR
VERSION:2.0
PRODID:-//ChamberMaster//Event Calendar 2.0//EN
METHOD:PUBLISH
X-PUBLISHED-TTL:P3D
REFRESH-INTERVAL:P3D
CALSCALE:GREGORIAN
BEGIN:VEVENT
DTSTART:20150918T120000Z
DTEND:20150918T133000Z
X-MICROSOFT-CDO-ALLDAYEVENT:FALSE
SUMMARY:Twitter - It's Not Just What?s For Breakfast Anymore
DESCRIPTION:Twitter   It's Not Just What's For Breakfast Anymore\n\nDoes Twitter feel like a foreign language?\n\nDo you feel lost whenever someone talks about a hashtag?\n\nAre you confused as to where to start?\nYou are not alone.  Many businesses not on Twitter feel the same way.  It moves too fast\, sounds too different and they question can you really use it to grow your business.\n\nThe answer is yes.  But just like going to a foreign country you need to learn the language and the customers.  This basic starter course will get you tweeting in the right direction.\n\n\n\nIn this session you'll learn:\n\n\n	How to navigate Twitter.\n	How to read a Tweet.\n	How to use a hashtag.\n	The difference between a reply\, retweet and mention.\n\nIn addition\, if you have a Twitter account\, you can participate in the live feed that will be posted during the class.  It's a great way to practice and make some new connections.\n\n \n\nAbout Jen Vondenbrink\n\nJen Vondenbrink\, Social Media Manager for Tri-Town Chamber of Commerce and owner of LS Business Solutions\, has been providing social media education to the Tri-Town area since 2008.  Jen helps businesses understand how to integrate social media into their marketing efforts one step at a time.
X-ALT-DESC;FMTTYPE=text/html:<strong style="line-height: 20.7999992370605px\;">Twitter &ndash\; It&rsquo\;s Not Just What&rsquo\;s For Breakfast Anymore</strong>\n\n<div style="line-height: 20.7999992370605px\; margin-left: 40px\;">Does Twitter feel like a foreign language?<br />\nDo you feel lost whenever someone talks about a&nbsp\;hashtag?<br />\nAre you confused as to where to start?</div>\n<span style="line-height: 20.7999992370605px\;">You are not alone.&nbsp\; Many businesses not on Twitter feel the same way.&nbsp\; It moves too fast\, sounds too different and they question can you really use it to grow your business.</span><br style="line-height: 20.7999992370605px\;" />\n<span style="line-height: 20.7999992370605px\;">The answer is yes.&nbsp\; But just like going to a foreign country you need to learn the language and the customers.&nbsp\; This basic starter course will get you tweeting in the right direction.</span><br style="line-height: 20.7999992370605px\;" />\n<br style="line-height: 20.7999992370605px\;" />\n<span style="line-height: 20.7999992370605px\;">In this session you&rsquo\;ll learn:</span>\n\n<ul style="line-height: 20.7999992370605px\;">\n	<li>How to navigate Twitter.</li>\n	<li>How to read a Tweet.</li>\n	<li>How to use a&nbsp\;hashtag.</li>\n	<li>The difference between a reply\,&nbsp\;retweet&nbsp\;and mention.</li>\n</ul>\n<span style="line-height: 20.7999992370605px\;">In addition\, if you have a Twitter account\, you can participate in the live feed that will be posted during the class.&nbsp\; It&rsquo\;s a great way to practice and make some new connections.</span><br style="line-height: 20.7999992370605px\;" />\n<span style="line-height: 20.7999992370605px\;">&nbsp\;</span><br style="line-height: 20.7999992370605px\;" />\n<em style="line-height: 20.7999992370605px\;"><strong>About Jen Vondenbrink</strong><br />\nJen Vondenbrink\, Social Media Manager for Tri-Town Chamber of Commerce and owner of LS Business Solutions\, has been providing social media education to the Tri-Town area since 2008.&nbsp\; Jen helps businesses understand how to integrate social media into their marketing efforts one step at a time.</em>
LOCATION:at the Tri-Town Chamber of Commerce 280 School Street\, Bld L100\, Mansfield Seminar held in the Davis Financial Conference Room
UID:e.1730.1099
SEQUENCE:3
DTSTAMP:20260419T204109Z
URL:https://www.tri-townchamber.org/events/details/twitter-it-s-not-just-what-s-for-breakfast-anymore-09-18-2015-1099
END:VEVENT

END:VCALENDAR
