BEGIN:VCALENDAR
VERSION:2.0
PRODID:-//ChamberMaster//Event Calendar 2.0//EN
METHOD:PUBLISH
X-PUBLISHED-TTL:P3D
REFRESH-INTERVAL:P3D
CALSCALE:GREGORIAN
BEGIN:VEVENT
DTSTART:20140319T120000Z
DTEND:20140319T130000Z
X-MICROSOFT-CDO-ALLDAYEVENT:FALSE
SUMMARY:Tri-Town Ambassador Meeting
DESCRIPTION:The Tri-Town of Chamber's Ambassador's provides a constant link between Chamber administration and the general membership. Ambassador are good will representative of the Chamber that work together for the business and community interests in the Tri-Town area.\n\nCurrently we are seeking motivated Chamber members to become Ambassadors for the 2014 year. Call the Chamber
X-ALT-DESC;FMTTYPE=text/html:The Tri-Town of Chamber&#39\;s Ambassador&#39\;s provides a constant link between Chamber administration and the general membership. Ambassador are good will representative of the Chamber that work together for the business and community interests in the Tri-Town area.<br />\nCurrently we are seeking motivated Chamber members to become Ambassadors for the 2014 year. Call the Chamber
LOCATION:The Group Meets in the Deutsche Bank Championship Conference Room at the Tri-Town Chamber office.
UID:e.1730.36
SEQUENCE:3
DTSTAMP:20260421T015043Z
URL:https://www.tri-townchamber.org/events/details/tri-town-ambassador-meeting-03-19-2014-36
END:VEVENT

END:VCALENDAR
