BEGIN:VCALENDAR
VERSION:2.0
PRODID:-//ChamberMaster//Event Calendar 2.0//EN
METHOD:PUBLISH
X-PUBLISHED-TTL:P3D
REFRESH-INTERVAL:P3D
CALSCALE:GREGORIAN
BEGIN:VEVENT
DTSTART:20140225T133000Z
DTEND:20140225T143000Z
X-MICROSOFT-CDO-ALLDAYEVENT:FALSE
SUMMARY:TREX III: Networking Group
DESCRIPTION:TREX are Networking Groups within the Chamber\, formed as a forum for your business to build stronger relationships and therefore grow your business. We welcome new Chamber Members to join each group\, please call with questions. (This is a membership benefit and is included in your annual dues\, no joining fee for TREX groups)
X-ALT-DESC;FMTTYPE=text/html:TREX are Networking Groups within the Chamber\, formed as a forum for your business to build stronger relationships and therefore grow your business. We welcome new Chamber Members to join each group\, please call with questions. (This is a membership benefit and is included in your annual dues\, no joining fee for TREX groups)<br />\n
LOCATION:Group Meets at the Chamber Office in the Barrows Insurance Agency\, Inc. Conference Room
UID:e.1730.742
SEQUENCE:3
DTSTAMP:20260421T050042Z
URL:https://www.tri-townchamber.org/events/details/trex-iii-networking-group-02-25-2014-742
END:VEVENT

END:VCALENDAR
