BEGIN:VCALENDAR
VERSION:2.0
PRODID:-//ChamberMaster//Event Calendar 2.0//EN
METHOD:PUBLISH
X-PUBLISHED-TTL:P3D
REFRESH-INTERVAL:P3D
CALSCALE:GREGORIAN
BEGIN:VEVENT
DTSTART:20130812T113000Z
DTEND:20130812T123000Z
X-MICROSOFT-CDO-ALLDAYEVENT:FALSE
SUMMARY:TREX I: Networking Group
DESCRIPTION:TREX are Networking Groups within the Chamber\, formed as a forum for your business to build stronger relationships and therefore grow your business. We welcome new Chamber Members to join each group\, please call with questions. (This is a membership benefit and is included in your annual dues\, no joining fee for TREX groups)
X-ALT-DESC;FMTTYPE=text/html:TREX are Networking Groups within the Chamber\, formed as a forum for your business to build stronger relationships and therefore grow your business. We welcome new Chamber Members to join each group\, please call with questions. (This is a membership benefit and is included in your annual dues\, no joining fee for TREX groups)<br />\n
LOCATION:Group Meets at the Chamber Office in the Deutsche Bank Conference Room
UID:e.1730.166
SEQUENCE:3
DTSTAMP:20260421T131543Z
URL:https://www.tri-townchamber.org/events/details/trex-i-networking-group-08-12-2013-166
END:VEVENT

END:VCALENDAR
