BEGIN:VCALENDAR
VERSION:2.0
PRODID:-//ChamberMaster//Event Calendar 2.0//EN
METHOD:PUBLISH
X-PUBLISHED-TTL:P3D
REFRESH-INTERVAL:P3D
CALSCALE:GREGORIAN
BEGIN:VEVENT
DTSTART:20131204T230000Z
DTEND:20131205T010000Z
X-MICROSOFT-CDO-ALLDAYEVENT:FALSE
SUMMARY:Tree Lighting Festival at Mansfield Crossing
DESCRIPTION:Join Mansfield Crossing this Holiday Season.\n\nYou are invited to a Tree Lighting Festival with Mr. and Mrs. Claus\, Hayrides\, & Carolers from 6-8pm at the Potting Shed by Sports Authority.\n\n\n\nFeeling Festive? Bring an unwrapped gift for a local child in need.
X-ALT-DESC;FMTTYPE=text/html:Join Mansfield Crossing this Holiday Season.<br />\nYou are invited to a Tree Lighting Festival with Mr. and Mrs. Claus\, Hayrides\, &amp\; Carolers from 6-8pm at the Potting Shed by Sports Authority.<br />\n<br />\nFeeling Festive? Bring an unwrapped gift for a local child in need.
LOCATION:Mansfield Crossing at the Potting Shed in front of Sports Authority
UID:e.1730.440
SEQUENCE:3
DTSTAMP:20260421T064325Z
URL:https://www.tri-townchamber.org/events/details/tree-lighting-festival-at-mansfield-crossing-12-04-2013-440
END:VEVENT

END:VCALENDAR
