BEGIN:VCALENDAR
VERSION:2.0
PRODID:-//ChamberMaster//Event Calendar 2.0//EN
METHOD:PUBLISH
X-PUBLISHED-TTL:P3D
REFRESH-INTERVAL:P3D
CALSCALE:GREGORIAN
BEGIN:VEVENT
DTSTART:20140501T220000Z
DTEND:20140502T020000Z
X-MICROSOFT-CDO-ALLDAYEVENT:FALSE
SUMMARY:Totally Awesome 80's Bash and Auction
DESCRIPTION:TOTALLY AWESOME 80's BASH and AUCTION  \n\n\n\nIt's Like Totally '80's in 2014! This is going to be the most totally rad bash this spring for sure (or fer shur if you're from the 80's). For one night you'll jump into a time machine like Marty McFly's Delorian and be able to get back to 1985. To prepare for your journey break out the hairspray\, tight jeans and parachute pants.  Once you walk in the door you'll be like transported to a wicked party surrounded with music from Duran Duran\, Flock of Seagulls\, Madonna\, Michael Jackson and the Thompson Twins.  You can party hearty or schmooze with people from town. Whether you are preppie\, a mall rat\, yuppie or a wanna be (someone who wants to see what all the fuss is about)\, you have to like come to this totally tubular party. \n\nDon't be a couch potato and veg out in front of the tv.  There will be radical Food\, Dancing\, awesome Raffle Items\, and wicked Silent Auctions.  Oh and Prizes for the Best 80's Dressed\, Best Celebrity Look Alike and Best 80's Hair\, plus Photo Ops and much more.  You'll have fun to the max!\n\n\n\nOpen to All to Come out and have a great Evening! (no need to be a Chamber member to attend)\n\n\n\nSome highlights of the Night: Door Prizes\, Go Home with complimentary photographs and caricature of yourself\, 80's best dressed contests\, DJ\, Dome Hockey Tournament\, Wine wall\, Silent Auction Items\, 5 Spectacular Live Auction Items and a special performance from the Mansfield High School Drama of their upcoming Show the Wedding Singer!\n\n\n\nFor more information: Tri-Town Chamber of Commerce 280 School Street\, Mansfield MA 02048 (P) 508-339-5655\n\n\n\n5 LIVE AUCTION ITEMS:  will be at 8:00pm\n\nWorld Golf Village Stay & Play Package in St. Augustine\, FL \n\n3 Day/2 Nights stay at the Renaissance Resort in World Golf Village\, A round of golf for 2 on Slammer & Squire Golf Course\, 2 Tickets to the world golf hall of fame and IMAX Theater and a   hour lesson for two at PGA TOUR Golf Academy. \n\nDonated by: Deutsche Bank Championship   Value $1000\n\n\n\nA Day Sailing Beautiful Narragansett Bay   4 people\n\nYou and 3 friends or family will enjoy a day of sailing\, swimming\, lunch and snacks aboard a gorgeous 34 foot sailboat\, Prints of Tides.  The day will be spent enjoying beautiful Narragansett Bay in and around the areas of Bristol Harbor\, Prudence Island and Aquidneck Island.  This day\, that memories will be made of\, will be scheduled on a mutually agreeable day.\n\nDonated by: Dave & Sandy Arnold   Value $400 \n\n\n\nVIP Concert Experience for Four at Xfinity Center See Lionel Richie with Cee Lo Green on June 24th!\n\nPackage includes\; Four (4) seats in a VIP Box\, two (2) VIP Parking Passes\, wait service to your seats (food & beverage not included) and Access for 4 to the Courtyard VIP Hospitality Area.  \n\nDonated by: Xfinity Center - $1000 Value\n\n\n\nExclusive   Foursome at TPC Boston This private club has donated a foursome. The certificate entitles bearer to One Round of Golf for Four (4) Players with carts at TPC Boston. Lush fairways\, Bentgrass greens and 52 bunkers create a superb test of golf in Norton's Great Woods. While challenging enough for the best players in the world during the Deutsche Bank Championship\, five sets of tees on each hole make the golf course enjoyable for the everyday club member and golfers of all skill levels. Some rules and restrictions apply\; starting times not available\, between July 31st   September 10th\, all guests of the club are required to take a mandatory fore caddie\; fore caddie fee and gratuity is separate\, Certificate used before 12/31/2014. \n\nDonated by: TPC Boston\, Norton - Value $800    \n\n\n\nGive Your Business the Exposure it Deserves\n\nNaming Right to Chamber's Conference Room This is your golden opportunity to have your business noticed all year long. Your Company's name will be marketed with all Conference Room Meeting Announcements for one year starting January 2015. The Chamber's Conference Room hosts over 200 Meetings a Year. Your framed sign with your Company logo displayed on the wall for the entire year as well. Currently the Conference Room is the Barrows Insurance Agency Conference room\n\n\n\n\n\nThank You to Our Partners\;  \n\nTotally Hip Partners: \n\n\n	DEUTSCHE BANK CHAMPIONSHIP\n	NORTH EASTON SAVINGS BANK\n\n   \n\n80's Ice Luge Partner:\n\n\n	HORIZON BEVERAGE\n\n  \n\nEntertainment Partner\n\n\n	MANSFIELD BANK\n	MANSFIELD CROSSING\n	PATRIOT PLACE\n	Invensys is becoming Schneider Electric  \n\n	 \n\n Big Hair Partner\n\n\n	Barrows Insurance Agency\, Inc.\n	Hockomock Area YMCA\n	Holiday Inn Mansfield\, Foxborough Area\n	Massachusetts Golf Association & MGA Links\, Norton\n\n\n\nMedia partner:\n\nWicked Local
X-ALT-DESC;FMTTYPE=text/html:<span style="font-family:times new roman\;"><span style="font-size:18px\;"><span style="font-family:arial\;"><strong>TOTALLY AWESOME 80&rsquo\;s BASH and AUCTION</strong>&nbsp\;&nbsp\;</span></span><br />\n<br />\n<span style="font-size:14px\;">It&#39\;s Like Totally &#39\;80&#39\;s in 2014!&nbsp\;This is going to be the most totally rad bash this spring for sure (or fer shur if you&#39\;re from the 80&#39\;s).&nbsp\;For one night you&#39\;ll jump into a time machine like Marty McFly&#39\;s Delorian and be able to get back to 1985.&nbsp\;To prepare for your journey break out the hairspray\, tight jeans and parachute pants.&nbsp\; Once you walk in the door you&#39\;ll be like transported to a wicked party surrounded with music from Duran Duran\, Flock of Seagulls\, Madonna\, Michael Jackson and the Thompson Twins.&nbsp\; You can party hearty or schmooze with people from town.&nbsp\;Whether you are preppie\, a mall rat\, yuppie or a wanna be (someone who wants to see what all the fuss is about)\, you have to like come to this totally tubular party.&nbsp\;<br />\nDon&#39\;t be a couch potato and veg out in front of the tv.&nbsp\; There will be radical Food\, Dancing\, awesome Raffle Items\, and wicked Silent Auctions.&nbsp\; Oh and Prizes for the Best 80&#39\;s Dressed\, Best Celebrity Look Alike and Best 80&#39\;s Hair\, plus Photo Ops and much more.&nbsp\; You&#39\;ll have fun to the max!<br />\n<br />\n<strong>Open to All to Come out and have a great Evening! (no need to be a Chamber member to attend)</strong><br />\n<br />\n<strong>Some highlights of the Night: </strong>Door Prizes\, Go Home with complimentary photographs and caricature&nbsp\;of yourself\, 80&#39\;s best dressed contests\, DJ\, Dome Hockey Tournament\, Wine wall\, Silent Auction Items\, 5 Spectacular Live Auction Items and a special performance from the Mansfield High School Drama of their upcoming Show the Wedding Singer!<br />\n<br />\nFor more information: Tri-Town Chamber of Commerce 280 School Street\, Mansfield MA 02048 (P) 508-339-5655</span><br />\n<br />\n<span style="font-size:14px\;"><strong>5 LIVE AUCTION ITEMS: &nbsp\;will be at 8:00pm</strong></span></span><br />\n<strong>World Golf Village Stay &amp\; Play Package in St. Augustine\, FL&nbsp\;</strong><br />\n3 Day/2 Nights stay at the Renaissance Resort in World Golf Village\, A round of golf for 2 on Slammer &amp\; Squire Golf Course\, 2 Tickets to the world golf hall of fame and IMAX Theater and a &frac12\; hour lesson for two at PGA TOUR Golf Academy.&nbsp\;<br />\n<em>Donated by: Deutsche Bank Championship &ndash\; Value $1000</em><br />\n<br />\n<strong>A Day Sailing Beautiful Narragansett Bay &ndash\; 4 people</strong><br />\nYou and 3 friends or family will enjoy a day of sailing\, swimming\, lunch and snacks aboard a gorgeous 34 foot sailboat\, Prints of Tides. &nbsp\;The day will be spent enjoying beautiful Narragansett Bay in and around the areas of Bristol Harbor\, Prudence Island and Aquidneck Island. &nbsp\;This day\, that memories will be made of\, will be scheduled on a mutually agreeable day.<br />\n<em>Donated by: Dave &amp\; Sandy Arnold &nbsp\; Value $400&nbsp\;</em><br />\n<br />\n<strong>VIP Concert Experience for Four at Xfinity Center See Lionel Richie with Cee Lo Green on June 24th!</strong><br />\nPackage includes\; Four (4) seats in a VIP Box\, two (2) VIP Parking Passes\, wait service to your seats (food &amp\; beverage not included) and Access for 4 to the Courtyard VIP Hospitality Area. &nbsp\;<br />\n<em>Donated by: Xfinity Center - $1000 Value</em><br />\n<br />\n<strong>Exclusive &ndash\; Foursome at TPC Boston </strong>This private club has donated a foursome. The certificate entitles bearer to One Round of Golf for Four (4) Players with carts at TPC Boston. Lush fairways\, Bentgrass greens and 52 bunkers create a superb test of golf in Norton&rsquo\;s Great Woods. While challenging enough for the best players in the world during the Deutsche Bank Championship\, five sets of tees on each hole make the golf course enjoyable for the everyday club member and golfers of all skill levels. Some rules and restrictions apply\; starting times not available\, between July 31st &ndash\; September 10th\, all guests of the club are required to take a mandatory fore caddie\; fore caddie fee and gratuity is separate\, Certificate used before 12/31/2014.&nbsp\;<br />\n<em>Donated by: TPC Boston\, Norton - Value $800&nbsp\;&nbsp\; &nbsp\;</em><br />\n<br />\n<strong>Give Your Business the Exposure it Deserves</strong><br />\nNaming Right to Chamber&rsquo\;s Conference Room This is your golden opportunity to have your business noticed all year long. Your Company&rsquo\;s name will be marketed with all Conference Room Meeting Announcements for one year starting January 2015. The Chamber&rsquo\;s Conference Room hosts over 200 Meetings a Year. Your framed sign with your Company logo displayed on the wall for the entire year as well. Currently the Conference Room is the Barrows Insurance Agency Conference room<br />\n<br />\n<br />\n<span style="font-family:times new roman\;"><span style="font-size:14px\;"><strong>Thank You to Our Partners\; &nbsp\;</strong></span><br />\nTotally Hip Partners:&nbsp\;</span>\n\n<ul>\n	<li><span style="font-family:times new roman\;"><span style="font-size:26px\;"><big>DEUTSCHE BANK CHAMPIONSHIP</big></span></span></li>\n	<li><span style="font-family:times new roman\;"><span style="font-size:26px\;"><big>NORTH EASTON SAVINGS BANK</big></span></span></li>\n</ul>\n<span style="font-family:times new roman\;"> <span style="font-size:26px\;"> &nbsp\;</span><br />\n<span style="font-size:16px\;">80&#39\;s Ice Luge Partner:</span></span>\n\n<ul>\n	<li><span style="font-family:times new roman\;"><span style="font-size:28px\;">HORIZON BEVERAGE</span></span></li>\n</ul>\n<span style="font-family:times new roman\;"> &nbsp\;<br />\n<span style="font-size:16px\;">Entertainment Partner</span></span>\n\n<ul>\n	<li><span style="font-family:times new roman\;"><span style="font-size:22px\;">MANSFIELD BANK</span></span></li>\n	<li><span style="font-family:times new roman\;"><span style="font-size:22px\;">MANSFIELD CROSSING</span></span></li>\n	<li><span style="font-family:times new roman\;"><span style="font-size:22px\;">PATRIOT PLACE</span></span></li>\n	<li><span style="font-family:times new roman\;"><span style="font-size:22px\;">Invensys is becoming Schneider Electric&nbsp\;&nbsp\;</span><br />\n	<span style="font-size:22px\;">&nbsp\;</span></span></li>\n</ul>\n<span style="font-size:16px\;"><span style="font-family:times new roman\;"> Big Hair Partner</span></span>\n\n<ul>\n	<li><span style="font-family:times new roman\;"><span style="font-size:20px\;">Barrows Insurance Agency\, Inc.</span></span></li>\n	<li><span style="font-family:times new roman\;"><span style="font-size:20px\;">Hockomock Area YMCA</span></span></li>\n	<li><span style="font-family:times new roman\;"><span style="font-size:20px\;">Holiday Inn Mansfield\, Foxborough Area</span></span></li>\n	<li><span style="font-family:times new roman\;"><span style="font-size:20px\;">Massachusetts Golf Association &amp\; MGA Links\, Norton</span></span></li>\n</ul>\n<br />\n<span style="font-family:times new roman\;"><span style="font-size:16px\;">Media partner:</span><br />\n<span style="font-size:20px\;"><strong>Wicked Local</strong></span></span><br />\n&nbsp\;
LOCATION:Showcase Live in Foxborough
UID:e.1730.982
SEQUENCE:3
DTSTAMP:20260421T000353Z
URL:https://www.tri-townchamber.org/events/details/totally-awesome-80-s-bash-and-auction-05-01-2014-982
END:VEVENT

END:VCALENDAR
