BEGIN:VCALENDAR
VERSION:2.0
PRODID:-//ChamberMaster//Event Calendar 2.0//EN
METHOD:PUBLISH
X-PUBLISHED-TTL:P3D
REFRESH-INTERVAL:P3D
CALSCALE:GREGORIAN
BEGIN:VEVENT
DTSTART:20150311T120000Z
DTEND:20150311T130000Z
X-MICROSOFT-CDO-ALLDAYEVENT:FALSE
SUMMARY:Tips & Tricks of Excel
DESCRIPTION:Come for some Tips and Tricks that you can utilize everyday\n\n	We will be demonstrating some of the benefits of Microsoft Office\, specifically MS Excel.\n	Content of this event will be Tips and Tricks of Excel.\n	Our team will bring promotional materials.\n	Please bring your laptop/device.\n\n \n\nInformation on who will be providing Tips & Tricks\n\n\n\nJoe Clayton\,  Senior Instructor \n\nAlpha Computer Training    Corporate & Individual Training \n\nAlpha is an independently owned instructor-led computer training center focused on providing top of the line instruction and IT support. We are a division of the Alpha Group Inc. servicing Southeastern Massachusetts. Alpha Computer Training was founded in 1980 to provide additional training resources to our applicants looking for jobs or career advancement. Alpha expanded its services to include training options for both corporate clients and the general public. Our classes deliver consistent\, comprehensive\, instruction in the most sought after computer applications.  Our training helps improve skills and increase productivity and employability in all fields.\n\n \n\nAt Alpha Computer Training\, we strive to offer the best computer and application training found anywhere. Our small class sizes and onsite availability\, combined with experienced instructors allow us to deliver a tailored and hands on approach in a relaxed environment. We offer the latest applications and flexible schedule that keeps our clients coming back.\n\n \n\nWe are dedicated to providing quality service to our clients\, understanding each client is unique and has individual needs. We will be happy to customize your class to meet your specialized requirements. Personal attention is our strength.\n\n \n\nThe Alpha Group is located at 61 East Main Street    Norton\, MA 02766   508-285-8500\n\nwww.TheAlphaGroup.com
X-ALT-DESC;FMTTYPE=text/html:Come for some Tips and Tricks that you can utilize everyday\n<ul>\n	<li>We will be demonstrating some of the benefits of Microsoft Office\, specifically MS Excel.</li>\n	<li>Content of this event will be Tips and Tricks of Excel.</li>\n	<li>Our team will bring promotional materials.</li>\n	<li>Please bring your laptop/device.</li>\n</ul>\n&nbsp\;\n\n<p><strong>Information on who will be providing Tips &amp\; Tricks</strong><br />\n<br />\n<em>Joe Clayton\, &nbsp\;Senior Instructor&#8203\;<br />\nAlpha Computer Training&nbsp\;&nbsp\;&nbsp\; Corporate &amp\; Individual Training&nbsp\;<br />\nAlpha is an independently owned instructor-led computer training center focused on providing top of the line instruction and IT support. We are a division of the Alpha Group Inc. servicing Southeastern Massachusetts. Alpha Computer Training was founded in 1980 to provide additional training resources to our applicants looking for jobs or career advancement. Alpha expanded its services to include training options for both corporate clients and the general public. Our classes deliver consistent\, comprehensive\, instruction in the most sought after computer applications.&nbsp\; Our training helps improve skills and increase productivity and employability in all fields.<br />\n&nbsp\;<br />\nAt Alpha Computer Training\, we strive to offer the best computer and application training found anywhere. Our small class sizes and onsite availability\, combined with experienced instructors allow us to deliver a tailored and hands on approach in a relaxed environment. We offer the latest applications and flexible schedule that keeps our clients coming back.<br />\n&nbsp\;<br />\nWe are dedicated to providing quality service to our clients\, understanding each client is unique and has individual needs. We will be happy to customize your class to meet your specialized requirements. Personal attention is our strength.<br />\n&nbsp\;<br />\nThe Alpha Group is located at&nbsp\;61 East Main Street&nbsp\;&nbsp\;&nbsp\; Norton\, MA 02766&nbsp\;&nbsp\; 508-285-8500<br />\nwww.TheAlphaGroup.com</em><br />\n&nbsp\;</p>\n
LOCATION:Held at the Tri-Town Chamber of Commerce Building in the Davis Financial Conference Room Chamber Building: 280 School St.\, Building L100 (farmhouse is located to the right of Kohls department store)
UID:e.1730.1274
SEQUENCE:3
DTSTAMP:20260420T064103Z
URL:https://www.tri-townchamber.org/events/details/tips-tricks-of-excel-03-11-2015-1274
END:VEVENT

END:VCALENDAR
