BEGIN:VCALENDAR
VERSION:2.0
PRODID:-//ChamberMaster//Event Calendar 2.0//EN
METHOD:PUBLISH
X-PUBLISHED-TTL:P3D
REFRESH-INTERVAL:P3D
CALSCALE:GREGORIAN
BEGIN:VEVENT
DTSTART:20150407T221500Z
DTEND:20150408T001500Z
X-MICROSOFT-CDO-ALLDAYEVENT:FALSE
SUMMARY:Timeout Tuesday
DESCRIPTION:Come and find out what's happening to our food today and how the environment is affecting our health now even more than ever. Discover why you might be having challenges with weight loss\, fatigue\, and illness and learn how certain products\, when added into your daily routine\, can facilitate better health.
X-ALT-DESC;FMTTYPE=text/html:Come and find out what&#39\;s happening to our food today and how the environment is affecting our health now even more than ever. Discover why you might be having challenges with weight loss\, fatigue\, and illness and learn how certain products\, when added into your daily routine\, can facilitate better health.
LOCATION:250 East Main Street\, Norton\, MA 02766 (in the office of Marathon Physical Therapy and Sports Medicine)
UID:e.1730.1575
SEQUENCE:3
DTSTAMP:20260420T032023Z
URL:https://www.tri-townchamber.org/events/details/timeout-tuesday-04-07-2015-1575
END:VEVENT

END:VCALENDAR
