BEGIN:VCALENDAR
VERSION:2.0
PRODID:-//ChamberMaster//Event Calendar 2.0//EN
METHOD:PUBLISH
X-PUBLISHED-TTL:P3D
REFRESH-INTERVAL:P3D
CALSCALE:GREGORIAN
BEGIN:VEVENT
DTSTART:20150802T153000Z
DTEND:20150802T193000Z
X-MICROSOFT-CDO-ALLDAYEVENT:FALSE
SUMMARY:Tiger Crane Kung Fu 1 Year Anniversary Open House
DESCRIPTION:One year anniversary celebration Open House! Activities include Lion Dance\, Kung Fu\, 5-Elements Tai Chi\, and Qigong demonstrations! Come see what Tiger Crane Kung Fu has to offer! Bring your appetite!
X-ALT-DESC;FMTTYPE=text/html:One year anniversary celebration Open House! Activities include Lion Dance\, Kung Fu\, 5-Elements Tai Chi\, and Qigong demonstrations! Come see what Tiger Crane Kung Fu has to offer! Bring your appetite!
LOCATION:Tiger Crane Kung Fu 86 Copeland Drive Mansfield\, MA 02048
UID:e.1730.1689
SEQUENCE:3
DTSTAMP:20260419T204646Z
URL:https://www.tri-townchamber.org/events/details/tiger-crane-kung-fu-1-year-anniversary-open-house-08-02-2015-1689
END:VEVENT

END:VCALENDAR
