BEGIN:VCALENDAR
VERSION:2.0
PRODID:-//ChamberMaster//Event Calendar 2.0//EN
METHOD:PUBLISH
X-PUBLISHED-TTL:P3D
REFRESH-INTERVAL:P3D
CALSCALE:GREGORIAN
BEGIN:VEVENT
DTSTART:20131204T220000Z
DTEND:20131205T000000Z
X-MICROSOFT-CDO-ALLDAYEVENT:FALSE
SUMMARY:The Village at Willow Crossings 6th Annual Festival of Wreaths & Silent Auction
DESCRIPTION:Come to the Village on December 4th to see all the wreaths\, enjoy delicious appetizers and libations and bid on your favorite wreath.  All proceeds will benefit Hessco Elder Services and The Mansfield Adult Day Health Center
X-ALT-DESC;FMTTYPE=text/html:<div style="text-align: justify\;">\n	<span style="font-size:12px\;">Come to the Village on December 4<sup>th</sup> to see all the wreaths\, enjoy delicious appetizers and libations and bid on your favorite wreath.&nbsp\; All proceeds will benefit Hessco Elder Services and The Mansfield Adult Day Health Center</span></div>\n
LOCATION:25 Cobb Street Mansfield\, MA 02048 Tel: 508-261-1333
UID:e.1730.449
SEQUENCE:3
DTSTAMP:20260421T083704Z
URL:https://www.tri-townchamber.org/events/details/the-village-at-willow-crossings-6th-annual-festival-of-wreaths-silent-auction-12-04-2013-449
END:VEVENT

END:VCALENDAR
