BEGIN:VCALENDAR
VERSION:2.0
PRODID:-//ChamberMaster//Event Calendar 2.0//EN
METHOD:PUBLISH
X-PUBLISHED-TTL:P3D
REFRESH-INTERVAL:P3D
CALSCALE:GREGORIAN
BEGIN:VEVENT
DTSTART:20251203T213000Z
DTEND:20251203T233000Z
X-MICROSOFT-CDO-ALLDAYEVENT:FALSE
SUMMARY:The Village at Willow Crossing Wreath Stroll
DESCRIPTION:Join us at the The Village at Willow Crossings 2025 Wreath Stroll event being held on Wednesday\, December 3rd\, from 4:30-6:30 pm.  The event will include wonderful hors d'oeuvres\, seasonal beverages and beautifully decorated wreaths that will be auctioned off.   Proceeds from this year's event will benefit the Mansfield Food Pantry.
X-ALT-DESC;FMTTYPE=text/html:<span data-olk-copy-source="MailCompose" style="font-family: Arial\, Helvetica\, sans-serif\; font-size: 12pt\; color: rgb(0\, 0\, 0)\;">Join us at the </span><span style="color:#FF0000\;"><span data-olk-copy-source="MailCompose" style="font-family: Arial\, Helvetica\, sans-serif\; font-size: 12pt\;"><strong>The Village at Willow Crossings 2025 Wreath Stroll </strong></span></span><span data-olk-copy-source="MailCompose" style="font-family: Arial\, Helvetica\, sans-serif\; font-size: 12pt\; color: rgb(0\, 0\, 0)\;">event being held on Wednesday\, December 3rd\, from 4:30-6:30 pm. &nbsp\;The event will include wonderful hors d&rsquo\;oeuvres\, seasonal beverages and beautifully decorated wreaths that will be auctioned off. &nbsp\; Proceeds from this year&rsquo\;s event will benefit the Mansfield Food Pantry.&nbsp\;</span>
LOCATION:25 Cobb St.\, Mansfield MA
UID:e.1730.8247
SEQUENCE:3
DTSTAMP:20260419T211640Z
URL:https://www.tri-townchamber.org/events/details/the-village-at-willow-crossing-wreath-stroll-8247
END:VEVENT

END:VCALENDAR
