BEGIN:VCALENDAR
VERSION:2.0
PRODID:-//ChamberMaster//Event Calendar 2.0//EN
METHOD:PUBLISH
X-PUBLISHED-TTL:P3D
REFRESH-INTERVAL:P3D
CALSCALE:GREGORIAN
BEGIN:VEVENT
DTSTART:20151203T220000Z
DTEND:20151204T000000Z
X-MICROSOFT-CDO-ALLDAYEVENT:FALSE
SUMMARY:The Village at Willow Crossing 2015 Wreath Stroll
DESCRIPTION:The Village At Willow Crossings 2015 Wreath Stroll\n\n \n\nPlease come and enjoy The Village at Willow Crossings Wreath Stroll. This event has a tradition of great food\, libations\, and entertainment but most of all the beautiful decorated wreaths generously decorated by our local community.\n\n\n\n*Wreaths will be auctioned off the night of the event and will benefit the Friends of Fuel Assistance thru the Council on Aging and Community VNA's Mansfield Adult Day Health Center.
X-ALT-DESC;FMTTYPE=text/html:<strong>The Village At Willow Crossings&nbsp\;2015 Wreath Stroll</strong><br />\n&nbsp\;<br />\nPlease come and enjoy The Village at Willow Crossings Wreath Stroll.&nbsp\;This event has a tradition of great food\, libations\, and entertainment but most of all the beautiful decorated wreaths generously decorated by our local community.<br />\n<br />\n*Wreaths will be auctioned off the night of the event and will benefit the Friends of Fuel Assistance thru the Council on Aging and Community VNA&rsquo\;s Mansfield Adult Day Health Center.
LOCATION:The Village at Willow Crossings 25 Cobb Street\, Mansfield\, MA
UID:e.1730.1845
SEQUENCE:3
DTSTAMP:20260419T154741Z
URL:https://www.tri-townchamber.org/events/details/the-village-at-willow-crossing-2015-wreath-stroll-12-03-2015-1845
END:VEVENT

END:VCALENDAR
