BEGIN:VCALENDAR
VERSION:2.0
PRODID:-//ChamberMaster//Event Calendar 2.0//EN
METHOD:PUBLISH
X-PUBLISHED-TTL:P3D
REFRESH-INTERVAL:P3D
CALSCALE:GREGORIAN
BEGIN:VEVENT
DTSTART:20141007T210000Z
DTEND:20141007T230000Z
X-MICROSOFT-CDO-ALLDAYEVENT:FALSE
SUMMARY:The Taste of Tri-Town - Food Tasting Event
DESCRIPTION:Our 7th Annual Food Tasting Event\, come enjoy food from around our towns.  \n\nIt is time again for the Tri-Town Chamber of Commerce\, Seventh Annual Tri-Town Community Food Tasting Event "The Taste of Tri-Town" to benefit the food pantries of Foxboro\, Mansfield and Norton. Almost $35\,000 has been donated to the Three Food Pantries over the first 6 years of running the food tasting event! We are hoping you will join us again in supporting this great event.\n\n   \n\nTICKETS AVAILABLE NOW - The event is rain or shine\, under the big beautiful tents at Mansfield Crossing.\n\n\n\nPremier Sponsor: Covidien\n\n Sponsor: Mansfield Crossing\n\n\n\nRestaurant Participating\;\n\n\n	Alberto's Pub & Pizza\, Norton\n	Antonia's Italian Cuisine\, Foxboro\n	Asia Grill & Sushi\, Mansfield\n	Bertucci's Italian Restaurant\, Mansfield\n	Buffalo Wild Wings\, Mansfield\n	Capriotti's Sandwich Shop\, Mansfield\n	CBS Scene\, Foxboro\n	Coldstone Creamery\, Mansfield \n	Cork's Fine Wine & Liquors\, Mansfield\n	D'Angelo's\, Foxboro\n	Edible Arrangements\, Foxboro\n	Fresh Catch\, Mansfield\n	Hilliards Chocolates\, Opening Soon in Mansfield!\n	Kelly's Place\, Norton \n	Mangia Neapolitan Pizzeria\, Norton\n	Menchie's Frozen Yogurt\, Mansfield\n	Nature Springs Water\n	Papa Gino's Restaurant\, Mansfield\n	Pikes Peak Mining Company\, Mansfield\n	Sake Steakhouse\, Mansfield\n	Tavolino\, Foxboro\n	Trinity Bar & Restaurant\, Norton\n\n\n\nEntertainment - Folk Music with Charlie Losiewitz and Peter Davis\n\nMassages - WickedGood Chiropractic\, Mansfield
X-ALT-DESC;FMTTYPE=text/html:Our 7th Annual Food Tasting Event\, come enjoy food from around our towns. &nbsp\;<br />\nIt is time again for the Tri-Town Chamber of Commerce\, Seventh Annual Tri-Town Community Food Tasting Event <strong>&quot\;The Taste of Tri-Town&quot\;</strong> to benefit the food pantries of Foxboro\, Mansfield and Norton. Almost $35\,000 has been donated to the Three Food Pantries over the first 6 years of running the food tasting event! We are hoping you will join us again in supporting this great event.<br />\n&nbsp\;&nbsp\;&nbsp\;<br />\n<strong>TICKETS AVAILABLE NOW</strong> - The event is rain or shine\, under the big beautiful tents at Mansfield Crossing.<br />\n<br />\nPremier Sponsor: <span style="font-size:14px\;"><span style="color:#0000CD\;"><span style="font-size:18px\;"><strong>Covidien</strong></span></span><br />\n&#8203\;Sponsor: <span style="color:#0000CD\;"><span style="font-size:16px\;"><strong>Mansfield Crossing</strong></span></span></span><br />\n<br />\n<strong>Restaurant Participating</strong>\;\n\n<ul>\n	<li><span style="font-size:14px\;"><span style="font-family:arial\;">Alberto&#39\;s Pub &amp\; Pizza\, Norton</span></span></li>\n	<li><span style="font-size:14px\;"><span style="font-family:arial\;">Antonia&#39\;s Italian Cuisine\, Foxboro</span></span></li>\n	<li><span style="font-size:14px\;"><span style="font-family:arial\;">Asia Grill &amp\; Sushi\, Mansfield</span></span></li>\n	<li>Bertucci&#39\;s<span style="font-family: arial\; font-size: 14px\; line-height: 1.6\;"> Italian Restaurant\, Mansfield</span></li>\n	<li><span style="font-size:14px\;"><span style="font-family:arial\;">Buffalo Wild Wings\, Mansfield</span></span></li>\n	<li><span style="font-size:14px\;"><span style="font-family:arial\;">Capriotti&#39\;s Sandwich Shop\, Mansfield</span></span></li>\n	<li><span style="font-size:14px\;"><span style="font-family:arial\;">CBS Scene\, Foxboro</span></span></li>\n	<li><span style="font-size:14px\;"><span style="font-family:arial\;">Coldstone Creamery\, Mansfield&nbsp\;</span></span></li>\n	<li><span style="font-size:14px\;"><span style="font-family:arial\;">Cork&#39\;s Fine Wine &amp\; Liquors\, Mansfield</span></span></li>\n	<li><span style="font-size:14px\;"><span style="font-family:arial\;">D&#39\;Angelo&#39\;s\, Foxboro</span></span></li>\n	<li><span style="font-size:14px\;"><span style="font-family:arial\;">Edible Arrangements\, Foxboro</span></span></li>\n	<li><span style="font-size:14px\;"><span style="font-family:arial\;">Fresh Catch\, Mansfield</span></span></li>\n	<li><span style="font-size:14px\;"><span style="font-family:arial\;">Hilliards Chocolates\, Opening Soon in Mansfield!</span></span></li>\n	<li><span style="font-size:14px\;"><span style="font-family:arial\;">Kelly&#39\;s Place\, Norton&nbsp\;</span></span></li>\n	<li><span style="font-size:14px\;"><span style="font-family:arial\;">Mangia Neapolitan Pizzeria\, Norton</span></span></li>\n	<li><span style="font-size:14px\;"><span style="font-family:arial\;">Menchie&#39\;s Frozen Yogurt\, Mansfield</span></span></li>\n	<li><span style="font-size:14px\;"><span style="font-family:arial\;">Nature Springs Water</span></span></li>\n	<li><span style="font-size:14px\;"><span style="font-family:arial\;">Papa Gino&rsquo\;s Restaurant\, Mansfield</span></span></li>\n	<li><span style="font-size:14px\;"><span style="font-family:arial\;">Pikes Peak Mining Company\, Mansfield</span></span></li>\n	<li><span style="font-size:14px\;"><span style="font-family:arial\;">Sake Steakhouse\, Mansfield</span></span></li>\n	<li><span style="font-size:14px\;"><span style="font-family:arial\;">Tavolino\, Foxboro</span></span></li>\n	<li><span style="font-size:14px\;"><span style="font-family:arial\;">Trinity Bar &amp\; Restaurant\, Norton</span></span></li>\n</ul>\n<br />\n<span style="font-size:16px\;"><span style="font-family:arial\;"><em>Entertainment </em>- Folk Music with Charlie Losiewitz and Peter Davis<br />\n<em>Massages</em> - WickedGood Chiropractic\, Mansfield</span></span><br />\n&nbsp\;
LOCATION:Mansfield Crossing in Mansfield
UID:e.1730.1035
SEQUENCE:3
DTSTAMP:20260420T132423Z
URL:https://www.tri-townchamber.org/events/details/the-taste-of-tri-town-food-tasting-event-10-07-2014-1035
END:VEVENT

END:VCALENDAR
