BEGIN:VCALENDAR
VERSION:2.0
PRODID:-//ChamberMaster//Event Calendar 2.0//EN
METHOD:PUBLISH
X-PUBLISHED-TTL:P3D
REFRESH-INTERVAL:P3D
CALSCALE:GREGORIAN
BEGIN:VEVENT
DTSTART:20151006T210000Z
DTEND:20151006T230000Z
X-MICROSOFT-CDO-ALLDAYEVENT:FALSE
SUMMARY:The Taste of Tri-Town - Food Tasting Event
DESCRIPTION:Tuesday\, October 6\, 2015\n\nIt is time again for the Tri-Town Chamber of Commerce\, Eighth Annual Tri-Town Community Food Tasting Event "The Taste of Tri-Town" to benefit the food pantries of Foxboro\, Mansfield and Norton. Almost $39\,000 has been donated to the Three Food Pantries over the past 7 years of running the food tasting event! We are hoping you will join us again in supporting this great event. It we be held under a big tent at Mansfield Crossing\, so come enjoy food from around our towns.  \n\n\n\nWe are currently looking to secure more restaurants to participate.\n\n\n\n2015 Presenting Sponsor: Medtronic\n\n2015 Supporting Sponsor: Mansfield Crossing\n\n_________________________________________________________   \n\n\n\nSo far the Restaurant Participating for 2015\;\n\n\n	Alberto's Pub & Pizza\, Norton\n	Antonia's Italian Cuisine\, Foxboro\n	Asia Grill & Sushi\, Mansfield\n	b.good (opening in November at Mansfield Crossing)\n	Berry Frozen Yogurt and Smoothies\, Norton\n	Buffalo Wild Wings\, Mansfield\n	CBS Scene\, Foxborough\n	Capriotti's Sandwich Shop\, Mansfield & Foxboro\n	D'Angelo's\, Mansfield\n	Edible Arrangements\, Foxborough\n	Fresh Catch\, Mansfield\n	Hilliards Chocolates\, Mansfield\n	Mangia Neapolitan Pizzeria\, Norton\n	Nature Springs Water Company\n	Papa Gino's\, Mansfield\n	Pikes Peak Mining Company\, Mansfield\n	Red Stone Grill\, North Attleboro\n	Sake Steak House\, Mansfield\n	Southeastern Technical Institute\, Easton\n	Wines & More\, Mansfield\n\n\n\n\nEntertainment - Local artist Peter Davis
X-ALT-DESC;FMTTYPE=text/html:<strong>Tuesday\, October 6\, 2015</strong><br />\nIt is time again for the Tri-Town Chamber of Commerce\, Eighth Annual Tri-Town Community Food Tasting Event <strong>&quot\;The Taste of Tri-Town&quot\;</strong> to benefit the food pantries of Foxboro\, Mansfield and Norton. Almost $39\,000 has been donated to the Three Food Pantries over the past 7 years of running the food tasting event! We are hoping you will join us again in supporting this great event. It we be held under a big tent at Mansfield Crossing\,&nbsp\;<span style="line-height: 23.1111106872559px\;">so come enjoy food from around our towns. &nbsp\;</span><br style="line-height: 23.1111106872559px\;" />\n<br />\nWe are currently looking to secure more restaurants to participate.<br />\n<br />\n2015 Presenting Sponsor: <span style="color:#0000CD\;"><span style="font-size:18px\;"><strong>Medtronic</strong></span></span><br />\n2015 Supporting Sponsor: <span style="font-size:14px\;"><span style="color:#0000CD\;"><strong>Mansfield Crossing</strong></span></span><br />\n_________________________________________________________ &nbsp\;&nbsp\;<br />\n<br />\n<strong>So far the Restaurant Participating for 2015</strong>\;\n\n<ul>\n	<li><span style="font-family:arial\;"><span style="font-size:14px\;">Alberto&#39\;s Pub &amp\; Pizza\, Norton</span></span></li>\n	<li><span style="font-family:arial\;"><span style="font-size:14px\;">Antonia&#39\;s Italian Cuisine\, Foxboro</span></span></li>\n	<li><span style="font-family:arial\;"><span style="font-size:14px\;">Asia Grill &amp\; Sushi\, Mansfield</span></span></li>\n	<li><span style="font-family:arial\;"><span style="font-size:14px\;">b.good (opening in November at Mansfield Crossing)</span></span></li>\n	<li><span style="font-family:arial\;"><span style="font-size:14px\;">Berry Frozen Yogurt and Smoothies\, Norton</span></span></li>\n	<li><span style="font-family:arial\;"><span style="font-size:14px\;">Buffalo Wild Wings\, Mansfield</span></span></li>\n	<li><span style="font-family:arial\;"><span style="font-size:14px\;">CBS Scene\, Foxborough</span></span></li>\n	<li><span style="font-family:arial\;"><span style="font-size:14px\;">Capriotti&#39\;s Sandwich Shop\, Mansfield &amp\; Foxboro</span></span></li>\n	<li><span style="font-family:arial\;"><span style="font-size:14px\;">D&#39\;Angelo&#39\;s\, Mansfield</span></span></li>\n	<li><span style="font-family:arial\;"><span style="font-size:14px\;">Edible Arrangements\, Foxborough</span></span></li>\n	<li><span style="font-family:arial\;"><span style="font-size:14px\;">Fresh Catch\, Mansfield</span></span></li>\n	<li><span style="font-family:arial\;"><span style="font-size:14px\;">Hilliards Chocolates\, Mansfield</span></span></li>\n	<li><span style="font-family:arial\;"><span style="font-size:14px\;">Mangia Neapolitan Pizzeria\, Norton</span></span></li>\n	<li><span style="font-family:arial\;"><span style="font-size:14px\;">Nature Springs Water Company</span></span></li>\n	<li><span style="font-family:arial\;"><span style="font-size:14px\;">Papa Gino&#39\;s\, Mansfield</span></span></li>\n	<li><span style="font-family:arial\;"><span style="font-size:14px\;">Pikes Peak Mining Company\, Mansfield</span></span></li>\n	<li><span style="font-family:arial\;"><span style="font-size:14px\;">Red Stone Grill\, North Attleboro</span></span></li>\n	<li><span style="font-family:arial\;"><span style="font-size:14px\;">Sake Steak House\, Mansfield</span></span></li>\n	<li><span style="font-family:arial\;"><span style="font-size:14px\;">Southeastern Technical Institute\, Easton</span></span></li>\n	<li><span style="font-family:arial\;"><span style="font-size:14px\;">Wines &amp\; More\, Mansfield</span></span></li>\n</ul>\n\n<p><br />\n<span style="font-size:14px\;"><span style="font-family:arial\;"><em>Entertainment </em>- Local artist Peter Davis</span></span><br />\n&nbsp\;</p>\n
LOCATION:Mansfield Crossing (The Tasting will be held under a Big Tent\, in the parking lot in front of Best Buy) Mansfield Crossing: 280 School Street Mansfield\, MA Under a Big Beautiful tent!
UID:e.1730.1566
SEQUENCE:3
DTSTAMP:20260419T190341Z
URL:https://www.tri-townchamber.org/events/details/the-taste-of-tri-town-food-tasting-event-10-06-2015-1566
END:VEVENT

END:VCALENDAR
