BEGIN:VCALENDAR
VERSION:2.0
PRODID:-//ChamberMaster//Event Calendar 2.0//EN
METHOD:PUBLISH
X-PUBLISHED-TTL:P3D
REFRESH-INTERVAL:P3D
CALSCALE:GREGORIAN
BEGIN:VEVENT
DTSTART:20150722T130000Z
DTEND:20150722T150000Z
X-MICROSOFT-CDO-ALLDAYEVENT:FALSE
SUMMARY:The Sage School Summer Open House
DESCRIPTION:The Sage School Summer Open House\n\nWednesday\, July 22\, 2015\n\n9am to 11am\n\n\n\nParents and their children are welcome to join us for our special Summer Open House.  Tours will start at 9:15 am followed by Q&A with administrators and current families.   Select openings still available for Fall 2015 or get a sneak peak if interested in applying for 2016-17!  \n\n\n\nThe Sage School is a private\, independent school for academically advanced students in grades PreK to 8.  Sage is preparing to celebrate 25 years as the leader in gifted education in the Greater Boston and Providence areas.
X-ALT-DESC;FMTTYPE=text/html:<p><span style="font-size:14px"><strong>The Sage School Summer Open House<br />\nWednesday\, July 22\, 2015<br />\n9am to 11am</strong></span><br />\n<br />\nParents and their children are welcome to join us for our special Summer Open House. &nbsp\;Tours will start at 9:15 am followed by Q&amp\;A with administrators and current families. &nbsp\; Select openings still available for Fall 2015 or get a sneak peak if interested in applying for 2016-17! &nbsp\;<br />\n<br />\nThe Sage School is a private\, independent school for academically advanced students in grades PreK to 8. &nbsp\;Sage is preparing to celebrate 25 years as the leader in gifted education in the Greater Boston and Providence areas.<br />\n<br />\n&nbsp\;</p>\n\n<p>&nbsp\;</p>\n
LOCATION:171 Mechanic St\, Foxboro\, MA 02035
UID:e.1730.1680
SEQUENCE:3
DTSTAMP:20260419T223848Z
URL:https://www.tri-townchamber.org/events/details/the-sage-school-summer-open-house-07-22-2015-1680
END:VEVENT

END:VCALENDAR
