BEGIN:VCALENDAR
VERSION:2.0
PRODID:-//ChamberMaster//Event Calendar 2.0//EN
METHOD:PUBLISH
X-PUBLISHED-TTL:P3D
REFRESH-INTERVAL:P3D
CALSCALE:GREGORIAN
BEGIN:VEVENT
DTSTART:20150409T220000Z
DTEND:20150409T233000Z
X-MICROSOFT-CDO-ALLDAYEVENT:FALSE
SUMMARY:The Sage School STEAM Expo\; The Future of Food Packaging
DESCRIPTION:The Sage School Presents\n\nThe Future of Food Experience: STEAM Solution for Packaging to Shopping\n\nImmerse yourself in the collaborate solutions of our 7th and 8th grade students who have spent two months identifying problems\, brainstorming solutions\, and engineering and testing solutions that will better the way you shop and eat!  The Sage School is honored to be sponsored by Raytheon and to have worked with many industry professionals including:  Microsoft\, Martin Kolewe of Quantum Deisgn and WikiFoods\, Lisa Freed of iRobot\, and Vicky Wu Davis\, Youth CITIES and Cambridge Innovation Center. Will your food soon be talking to you?  Come find out! \n\n\n\nSage invites our friends in the business community in the fields of engineering\, technology\, food retail or production\, science\, packaging or related fields to attend and offer feedback for our student teams.  \n\n\n\nThe event is open to the public.  Business friends\, we welcome an RSVP to Danielle Fish at dfish@sageschool.org.  \n\n\n\nThe Sage School is an independent school in Foxboro for academically gifted students in grades PreK to 8.  Sage has been the leader in gifted education for over 25 years.  We draw nearly 200 students from around the Greater Boston and Providence areas.
X-ALT-DESC;FMTTYPE=text/html:<p>The Sage School Presents<br />\n<span style="font-size:14px"><strong>The Future of Food Experience: STEAM Solution for Packaging to Shopping</strong></span><br />\nImmerse yourself in the collaborate solutions of our 7th and 8th grade students who have spent two months identifying problems\, brainstorming solutions\, and engineering and testing solutions that will better the way you shop and eat! &nbsp\;The Sage School is honored to be sponsored by Raytheon and to have worked with many industry professionals including: &nbsp\;Microsoft\, Martin Kolewe of Quantum Deisgn and WikiFoods\, Lisa Freed of iRobot\, and Vicky Wu Davis\, Youth CITIES and Cambridge Innovation Center. Will your food soon be talking to you? &nbsp\;Come find out!&nbsp\;</p>\n\n<p><br />\nSage invites our friends in the business community in the fields of engineering\, technology\, food retail or production\, science\, packaging or related fields to attend and offer feedback for our student teams. &nbsp\;<br />\n<br />\nThe event is open to the public. &nbsp\;Business friends\, we welcome an RSVP to Danielle Fish at dfish@sageschool.org. &nbsp\;<br />\n<br />\nThe Sage School is an independent school in Foxboro for academically gifted students in grades PreK to 8. &nbsp\;Sage has been the leader in gifted education for over 25 years. &nbsp\;We draw nearly 200 students from around the Greater Boston and Providence areas.&nbsp\;</p>\n
LOCATION:The Hall at Patriot Place Raytheon Theater Foxboro\, MA
UID:e.1730.1583
SEQUENCE:3
DTSTAMP:20260420T032723Z
URL:https://www.tri-townchamber.org/events/details/the-sage-school-steam-expo-the-future-of-food-packaging-04-09-2015-1583
END:VEVENT

END:VCALENDAR
