BEGIN:VCALENDAR
VERSION:2.0
PRODID:-//ChamberMaster//Event Calendar 2.0//EN
METHOD:PUBLISH
X-PUBLISHED-TTL:P3D
REFRESH-INTERVAL:P3D
CALSCALE:GREGORIAN
BEGIN:VEVENT
DTSTART:20151209T133000Z
DTEND:20151209T153000Z
X-MICROSOFT-CDO-ALLDAYEVENT:FALSE
SUMMARY:The Sage School Open House
DESCRIPTION:The Sage School Open House welcomes prospective families to come and explore Greater Boston's leader in gifted education for bright students in grade PreKindergarten to 8. Sage is a private\, independent school located in Foxboro that welcomes 170 students from 50+ communities each day. Sage offers advanced studies in humanities\, math\, computers/robotics and science - rounded out by languages and a full fine and performing arts curriculum. Open House offers classroom tours\, opportunities to meet teachers and current parents and to review the admission process.
X-ALT-DESC;FMTTYPE=text/html:The Sage School Open House welcomes prospective families to come and explore Greater Boston&#39\;s leader in gifted education for bright students in grade PreKindergarten to 8. Sage is a private\, independent school located in Foxboro that welcomes 170 students from 50+ communities each day. Sage offers advanced studies in humanities\, math\, computers/robotics and science - rounded out by languages and a full fine and performing arts curriculum. Open House offers classroom tours\, opportunities to meet teachers and current parents and to review the admission process.
LOCATION:171 Mechanic Street Foxboro\, MA 02035
UID:e.1730.1873
SEQUENCE:3
DTSTAMP:20260419T141849Z
URL:https://www.tri-townchamber.org/events/details/the-sage-school-open-house-12-09-2015-1873
END:VEVENT

END:VCALENDAR
