BEGIN:VCALENDAR
VERSION:2.0
PRODID:-//ChamberMaster//Event Calendar 2.0//EN
METHOD:PUBLISH
X-PUBLISHED-TTL:P3D
REFRESH-INTERVAL:P3D
CALSCALE:GREGORIAN
BEGIN:VEVENT
DTSTART:20151104T133000Z
DTEND:20151104T153000Z
X-MICROSOFT-CDO-ALLDAYEVENT:FALSE
SUMMARY:The Sage School Open House
DESCRIPTION:The Sage School is an independent\, private school for academically advanced students in grades PreK to 8.  Located in Foxboro MA\,  Sage has been the leader in gifted education for over 25 years in the Greater Boston and Providence areas.  The school offers small class sizes averaging 12-16 students with two full-time teachers in grades PreK to 5.  Sage has a full Arts and Language Department\, offering Spanish and Latin as early as Kindergarten.\n\n\n\nThis Open House offers campus tours\, opportunities to view classrooms and meet teachers\, as well as hear from current families. Children are welcome. \n\n\n\nPlease RSVP via our website www.sageschool.org to register.
X-ALT-DESC;FMTTYPE=text/html:The Sage School is an independent\, private school for academically advanced students in grades PreK to 8. &nbsp\;Located in Foxboro MA\, &nbsp\;Sage has been the leader in gifted education for over 25 years in the Greater Boston and Providence areas. &nbsp\;The school offers small class sizes averaging 12-16 students with two full-time teachers in grades PreK to 5. &nbsp\;Sage has a full Arts and Language Department\, offering Spanish and Latin as early as Kindergarten.<br />\n<br />\nThis Open House offers campus tours\, opportunities to view classrooms and meet teachers\, as well as hear from current families. Children are welcome.&nbsp\;<br />\n<br />\nPlease RSVP via our website www.sageschool.org to register.
LOCATION:171 Mechanic Street\, Foxboro\, MA 02035
UID:e.1730.1836
SEQUENCE:3
DTSTAMP:20260419T172323Z
URL:https://www.tri-townchamber.org/events/details/the-sage-school-open-house-11-04-2015-1836
END:VEVENT

END:VCALENDAR
