BEGIN:VCALENDAR
VERSION:2.0
PRODID:-//ChamberMaster//Event Calendar 2.0//EN
METHOD:PUBLISH
X-PUBLISHED-TTL:P3D
REFRESH-INTERVAL:P3D
CALSCALE:GREGORIAN
BEGIN:VEVENT
DTSTART:20150415T130000Z
DTEND:20150415T150000Z
X-MICROSOFT-CDO-ALLDAYEVENT:FALSE
SUMMARY:The Sage School Open House
DESCRIPTION:The Sage School Open House\n\nTake this opportunity to tour our school and meet our faculty.  Guests will have the opportunity to speak with current parents as well as observe classes. \n\nCome check out Greater Boston's leader in gifted education for children in grades PreK to 8.  Small class sizes\, foreign language\, full arts program.\n\nTo register for the Open House\, visit our website www.sageschool.org.\n\nTo schedule a personal tour\, contact Danielle Fish\, Director of Admission at dfish@sageschool.org.
X-ALT-DESC;FMTTYPE=text/html:The Sage School Open House<br />\nTake this opportunity to tour our school and meet our faculty. &nbsp\;Guests will have the opportunity to speak with current parents as well as observe classes.&nbsp\;<br />\nCome check out Greater Boston&#39\;s leader in gifted education for children in grades PreK to 8. &nbsp\;Small class sizes\, foreign language\, full arts program.<br />\nTo register for the Open House\, visit our website www.sageschool.org.<br />\nTo schedule a personal tour\, contact Danielle Fish\, Director of Admission at dfish@sageschool.org.<br />\n&nbsp\;
LOCATION:171 Mechanic Street\, Foxboro\, MA 02035 Bus transportation available from Newton and Dedham.
UID:e.1730.1584
SEQUENCE:3
DTSTAMP:20260420T045918Z
URL:https://www.tri-townchamber.org/events/details/the-sage-school-open-house-04-15-2015-1584
END:VEVENT

END:VCALENDAR
