BEGIN:VCALENDAR
VERSION:2.0
PRODID:-//ChamberMaster//Event Calendar 2.0//EN
METHOD:PUBLISH
X-PUBLISHED-TTL:P3D
REFRESH-INTERVAL:P3D
CALSCALE:GREGORIAN
BEGIN:VEVENT
DTSTART:20150114T140000Z
DTEND:20150114T160000Z
X-MICROSOFT-CDO-ALLDAYEVENT:FALSE
SUMMARY:The Sage School Open House
DESCRIPTION:The Sage School in Foxboro will host an Open House for prospective families on Wednesday\, January 14 at 9:00 am. The program includes classroom tours and meeting with current faculty and families. Sage is a private school for academically advanced students in grades PreK to 8.  Sage offers full-time Pre-Kindergarten and Kindergarten classrooms\, as well as afterschool care until 6:00 pm.  Application deadline is January 15 for enrollment for the 2015-16 year. For more information or to register\, visit www.sageschool.org or call (508) 543-9619.
X-ALT-DESC;FMTTYPE=text/html:The Sage School in Foxboro will host an <strong>Open House</strong> for prospective families on <strong>Wednesday\, January 14 at 9:00 am</strong>. The program includes classroom tours and meeting with current faculty and families. Sage is a private school for academically advanced students in grades PreK to 8. &nbsp\;Sage offers full-time Pre-Kindergarten and Kindergarten classrooms\, as well as afterschool care until 6:00 pm. &nbsp\;Application deadline is January 15 for enrollment for the 2015-16 year. For more information or to register\, visit www.sageschool.org or call (508) 543-9619. &nbsp\;<br />\n&nbsp\;
LOCATION:171 Mechanic Street\, Foxboro\, MA 02035
UID:e.1730.1264
SEQUENCE:3
DTSTAMP:20260420T084046Z
URL:https://www.tri-townchamber.org/events/details/the-sage-school-open-house-01-14-2015-1264
END:VEVENT

END:VCALENDAR
