BEGIN:VCALENDAR
VERSION:2.0
PRODID:-//ChamberMaster//Event Calendar 2.0//EN
METHOD:PUBLISH
X-PUBLISHED-TTL:P3D
REFRESH-INTERVAL:P3D
CALSCALE:GREGORIAN
BEGIN:VEVENT
DTSTART:20151003T130000Z
DTEND:20151003T150000Z
X-MICROSOFT-CDO-ALLDAYEVENT:FALSE
SUMMARY:The Sage School Fall Open House
DESCRIPTION:The Sage School Fall Open House\n\nSaturday\, October 3\, 2015\n\n9am to 11am\n\n\n\nThis is our biggest Open House of the year!  Parents and children are welcome to attend and visit classrooms\, meet teachers and current families.  This Open House kicks off the formal admission season at Sage.  All faculty and specialty teachers will be present.  Student tour guides will be available for prospective applicants to meet and ask their own questions.  \n\n\n\nRSVP is recommended through our website starting in September however\, it is not required.  \n\n\n\nThe Sage School is a private\, independent school for academically advanced students.  Sage specializes in offering gifted and talented curriculum across all subjects for students in grades PreK to 8.  Foreign language and a full arts program are offered.  The Sage School will celebrate 25 years this Fall as the leader in gifted education in the Greater Boston and Providence areas.
X-ALT-DESC;FMTTYPE=text/html:The Sage School Fall Open House<br />\nSaturday\, October 3\, 2015<br />\n9am to 11am<br />\n<br />\nThis is our biggest Open House of the year! &nbsp\;Parents and children are welcome to attend and visit classrooms\, meet teachers and current families. &nbsp\;This Open House kicks off the formal admission season at Sage. &nbsp\;All faculty and specialty teachers will be present. &nbsp\;Student tour guides will be available for prospective applicants to meet and ask their own questions. &nbsp\;<br />\n<br />\nRSVP is recommended through our website starting in September however\, it is not required. &nbsp\;<br />\n<br />\nThe Sage School is a private\, independent school for academically advanced students. &nbsp\;Sage specializes in offering gifted and talented curriculum across all subjects for students in grades PreK to 8. &nbsp\;Foreign language and a full arts program are offered. &nbsp\;The Sage School will celebrate 25 years this Fall as the leader in gifted education in the Greater Boston and Providence areas.&nbsp\;
LOCATION:171 Mechanic St\, Foxboro\, MA 02035
UID:e.1730.1681
SEQUENCE:3
DTSTAMP:20260419T172323Z
URL:https://www.tri-townchamber.org/events/details/the-sage-school-fall-open-house-10-03-2015-1681
END:VEVENT

END:VCALENDAR
