BEGIN:VCALENDAR
VERSION:2.0
PRODID:-//ChamberMaster//Event Calendar 2.0//EN
METHOD:PUBLISH
X-PUBLISHED-TTL:P3D
REFRESH-INTERVAL:P3D
CALSCALE:GREGORIAN
BEGIN:VEVENT
DTSTART:20140315T230000Z
DTEND:20140316T020000Z
X-MICROSOFT-CDO-ALLDAYEVENT:FALSE
SUMMARY:The Doolittle Home Charity Art Auction
DESCRIPTION:The Doolittle Home is pleased to announce that we will be holding a Charity Art Auction on Saturday\, March 15 at the Foxboro Country Club. Members and friends of the Foxboro Art Association have generously donated their best works of art for this benefit auction. \n\n \n\nBeginning February 1st through the date of the event\, all artwork can be viewed at the Boyden Library. In addition\, a program with photos of each piece of artwork\, the artist name and a value will be distributed upon arrival to the event. The artwork will be displayed at the event for last-minute viewing prior to the start of the auction.\n\n \n\nThe evening will include a live auction of the artwork by Foxboro residents Kevin Weinfeld and Bill Grieder. Additionally\, a special silent auction of non-traditional Homer White paintings will be featured. Music and appetizers are included in the ticket price and there will be a cash bar.\n\n\n\nTickets are $25 per person in advance\, $30 at the door\, though tickets are limited due to space restrictions. It is recommended to purchase tickets early to ensure admittance to the event. \n\n \n\nAdvertising is available in the program in a variety of sizes\, including family and friends listings\, business card sections and full and half pages.\n\n \n\nThe Doolittle Home is a century-old retirement home dedicated to compassionate elder care. A unique facility\, located in downtown Foxboro\, the home is recognized as a 501 (C)(3) public charity by the Commonwealth of Massachusetts. The Doolittle Home is open to men\, women\, and couples regardless of race\, religion\, or national origin. One hundred percent of your tax-deductible donation will enhance the lives of our elderly residents everyday. \n\n \n\nFounded in 1957\, the Foxboro Art Association is a non-profit support group that has been part of the local art scene for half a century. The association has more than one hundred members in over twenty surrounding towns. \n\n \n\nTo purchase tickets or advertising\, please contact Virginia at 508-543-2694 or email at virginia@doolittle-home.org
X-ALT-DESC;FMTTYPE=text/html:<span style="letter-spacing:-.3pt\;"><span style="font-family:arial\;">The Doolittle Home is pleased to announce that we will be holding a Charity Art Auction on Saturday\, March 15 at the Foxboro Country Club. Members and friends of the Foxboro Art Association have generously donated their best works of art for this benefit auction. </span></span><br />\n&nbsp\;<br />\n<span style="letter-spacing:-.3pt\;"><span style="font-family:arial\;">Beginning February 1<sup>st</sup> through the date of the event\, all artwork can be viewed at the Boyden Library. In addition\, a program with photos of each piece of artwork\, the artist name and a value will be distributed upon arrival to the event. The artwork will be displayed at the event for last-minute viewing prior to the start of the auction.</span></span><br />\n&nbsp\;<br />\n<span style="letter-spacing:-.3pt\;"><span style="font-family:arial\;">The evening will include a live auction of the artwork by Foxboro residents Kevin Weinfeld and Bill Grieder. Additionally\, a special silent auction of non-traditional Homer White paintings will be featured. Music and appetizers are included in the ticket price and there will be a cash bar.<br />\n<br />\n<span style="letter-spacing:-.3pt\;"><span style="font-family:arial\;">Tickets are $25 per person in advance\, $30 at the door\, though tickets are limited due to space restrictions. It is recommended to purchase tickets early to ensure admittance to the event. </span></span><br />\n&nbsp\;<br />\n<span style="letter-spacing:-.3pt\;"><span style="font-family:arial\;">Advertising is available in the program in a variety of sizes\, including family and friends listings\, business card sections and full and half pages.</span></span><br />\n&nbsp\;<br />\n<span style="font-family:arial\;">The Doolittle Home is a century-old retirement home dedicated to compassionate elder care. A unique facility\, located in downtown Foxboro\, the home is recognized as a 501 (C)(3) public charity by the Commonwealth of Massachusetts. The Doolittle Home is open to men\, women\, and couples regardless of race\, religion\, or national origin. One hundred percent of your tax-deductible donation will enhance the lives of our elderly residents everyday. </span><br />\n&nbsp\;<br />\n<span style="font-family:arial\;">Founded in 1957\, the Foxboro Art Association is a non-profit support group that has been part of the local art scene for half a century. The association has more than one hundred members in over twenty surrounding towns. </span><br />\n&nbsp\;<br />\n<strong><span style="font-family:arial\;">To purchase tickets or advertising\, please contact Virginia at 508-543-2694 or email at virginia@doolittle-home.org</span></strong></span></span><br />\n<br />\n<br />\n
LOCATION:Foxboro Country Club\, 33 Walnut Street\, Foxboro
UID:e.1730.969
SEQUENCE:3
DTSTAMP:20260421T015219Z
URL:https://www.tri-townchamber.org/events/details/the-doolittle-home-charity-art-auction-03-15-2014-969
END:VEVENT

END:VCALENDAR
