BEGIN:VCALENDAR
VERSION:2.0
PRODID:-//ChamberMaster//Event Calendar 2.0//EN
METHOD:PUBLISH
X-PUBLISHED-TTL:P3D
REFRESH-INTERVAL:P3D
CALSCALE:GREGORIAN
BEGIN:VEVENT
DTSTART:20251120T233000Z
DTEND:20251121T003000Z
X-MICROSOFT-CDO-ALLDAYEVENT:FALSE
SUMMARY:The Disease of Addiction: Why Science Matters - Webinar hosted by SAFE
DESCRIPTION:SAFE's Family Recovery Center is proud to launch a new educational webinar series starting this November! This series is designed to deepen understanding of addiction\, recovery\, and the systems that support healing.\n\n\n\nFor our first episode\, we'll be joined by Kathryn Branca to discuss "The Disease of Addiction: Why Science Matters." Participants will\n\n\n	Gain a deeper understanding of addiction as a chronic\, treatable brain disease\n	Learn how science shows us recovery is possible\n	Discover practical ways to apply the science to support themselves or loved ones in their recovery journey
X-ALT-DESC;FMTTYPE=text/html:SAFE&rsquo\;s Family Recovery Center is proud to launch a new educational webinar series starting this November! This series is designed to deepen understanding of addiction\, recovery\, and the systems that support healing.<br />\n<br />\nFor our first episode\, we&rsquo\;ll be joined by Kathryn Branca to discuss <strong>&ldquo\;<a href="https://www.safecoalitionma.org/get-support/webinar">The Disease of Addiction: Why Science Matters</a>.&quot\;</strong>&nbsp\;Participants will\n\n<ul>\n	<li>Gain a deeper understanding of addiction as a chronic\, treatable brain disease</li>\n	<li>Learn how science shows us recovery is possible</li>\n	<li>Discover practical ways to apply the science to support themselves or loved ones in their recovery journey</li>\n</ul>\n
LOCATION:Zoom
UID:e.1730.8243
SEQUENCE:3
DTSTAMP:20260419T231020Z
URL:https://www.tri-townchamber.org/events/details/the-disease-of-addiction-why-science-matters-webinar-hosted-by-safe-8243
END:VEVENT

END:VCALENDAR
