BEGIN:VCALENDAR
VERSION:2.0
PRODID:-//ChamberMaster//Event Calendar 2.0//EN
METHOD:PUBLISH
X-PUBLISHED-TTL:P3D
REFRESH-INTERVAL:P3D
CALSCALE:GREGORIAN
BEGIN:VEVENT
DTSTART:20150518T220000Z
DTEND:20150519T000000Z
X-MICROSOFT-CDO-ALLDAYEVENT:FALSE
SUMMARY:The challenges of decision-making for your loved ones with Alzheimer's Disease
DESCRIPTION:The challenges of decision-making for your loved ones with Alzheimer's Disease\n\n \n\nPlease join us on Monday\, May 18th at 6:00PM for this informative session regarding Alzheimer's disease. Peter Ham\, accomplished lecturer\, author and a licensed mental health counselor will offer his insight and expertise on the challenges in decision-making such as determining when your loved one is no longer safe being alone\; what are the safety issues\; when is it time for the caregiver to consider care alternatives\; how to address the difficult decisions\; and getting to know and become comfortable with resources available to help. Location of the program is Community VNA\, 10 Emory St. in Attleboro and is free and open to the public. Pre-registration is required. Please contact Community VNA at 774-203-1311 or register@communityvna.com.\n\n \n\nPeter Ham is a licensed mental health counselor for over 30 years. He has been an active participant with the Alzheimer's Association for many years including being Vice President for Programs and Services in Massachusetts and New Hampshire as well as the lead facilitator of an early stage Alzheimer's support group for individuals recently diagnosed and their care partners. Peter was honored by The Alzheimer's Association as the "2009 Unsung Hero" for his advocacy and work.
X-ALT-DESC;FMTTYPE=text/html:<strong><span style="font-size:12.0pt\;">The challenges of decision-making for your loved ones with Alzheimer&rsquo\;s Disease</span></strong><br />\n&nbsp\;<br />\nPlease join us on Monday\, May 18<sup>th</sup> at 6:00PM for this informative session regarding Alzheimer&rsquo\;s disease. <span style="color:#494338\;">Peter </span>Ham\, accomplished lecturer\, author and a licensed mental health counselor will&nbsp\;offer his insight and expertise on the challenges in decision-making such as determining when your loved one is no longer safe being alone\; what are the safety issues\; when is it time for the caregiver to consider care alternatives\; how to address the difficult decisions\; and getting to know and become comfortable with resources available to help. Location of the program is Community VNA\, 10 Emory St. in Attleboro and is free and open to the public. Pre-registration is required. Please contact Community VNA at 774-203-1311 or <a href="mailto:register@communityvna.com">register@communityvna.com</a>.<br />\n&nbsp\;<br />\nPeter Ham is a licensed mental health counselor for over 30 years. He has been an active participant with the Alzheimer&rsquo\;s Association for many years including being Vice President for Programs and Services in Massachusetts and New Hampshire as well as the lead facilitator of an early stage Alzheimer&rsquo\;s support group for individuals recently diagnosed and their care partners. Peter was honored by The Alzheimer&rsquo\;s Association as the &ldquo\;2009 Unsung Hero&rdquo\; for his advocacy and work.&nbsp\;
LOCATION:Community VNA\, 10 Emory St. in Attleboro
UID:e.1730.1654
SEQUENCE:3
DTSTAMP:20260420T015839Z
URL:https://www.tri-townchamber.org/events/details/the-challenges-of-decision-making-for-your-loved-ones-with-alzheimer-s-disease-05-18-2015-1654
END:VEVENT

END:VCALENDAR
