BEGIN:VCALENDAR
VERSION:2.0
PRODID:-//ChamberMaster//Event Calendar 2.0//EN
METHOD:PUBLISH
X-PUBLISHED-TTL:P3D
REFRESH-INTERVAL:P3D
CALSCALE:GREGORIAN
BEGIN:VEVENT
DTSTART:20131106T000000Z
DTEND:20131106T013000Z
X-MICROSOFT-CDO-ALLDAYEVENT:FALSE
SUMMARY:The Aging Athlete: Knee Injuries from Sports
DESCRIPTION:Physician experts at Brigham and Women's/Mass General Health Care Center will be presenting the following educational sessions:\n\n\n\nSpeakers: Eric Berkson\, MD\; Elizabeth Matzkin\, MD\; Reg Wilcox\, PT
X-ALT-DESC;FMTTYPE=text/html:<span style="color:#333333\;"><span style="font-family:verdana\,sans-serif\;"><span style="font-size:9.0pt\;">Physician experts at Brigham and Women&rsquo\;s/Mass General Health Care Center will be presenting the following educational sessions:</span></span></span><br />\n<br />\n<span style="color:#333333\;"><span style="font-family:verdana\,sans-serif\;"><span style="font-size:9.0pt\;">Speakers: Eric Berkson\, MD\; Elizabeth Matzkin\, MD\; Reg Wilcox\, PT</span></span></span>
LOCATION:Brigham and Women's/Mass. General Health Care Center at Patriot Place Foxborough ? 3d Floor Atrium
UID:e.1730.424
SEQUENCE:3
DTSTAMP:20260421T083527Z
URL:https://www.tri-townchamber.org/events/details/the-aging-athlete-knee-injuries-from-sports-11-05-2013-424
END:VEVENT

END:VCALENDAR
