BEGIN:VCALENDAR
VERSION:2.0
PRODID:-//ChamberMaster//Event Calendar 2.0//EN
METHOD:PUBLISH
X-PUBLISHED-TTL:P3D
REFRESH-INTERVAL:P3D
CALSCALE:GREGORIAN
BEGIN:VEVENT
DTSTART;VALUE=DATE:20131111
DTEND;VALUE=DATE:20131112
TRANSP:TRANSPARENT
X-MICROSOFT-CDO-ALLDAYEVENT:TRUE
SUMMARY:Thank You\, Veterans.
DESCRIPTION:Come in for a haircut on Nov 11th 2013 and get a free haircut card to give to a veteran.
X-ALT-DESC;FMTTYPE=text/html:<strong>Come in for a haircut on Nov 11th 2013 and get a free haircut card to give to a veteran.</strong>
LOCATION:Great Clips Mansfield Stop and Shop Plaza 377 Chauncy Street Mansfield\, MA 02048
UID:e.1730.436
SEQUENCE:3
DTSTAMP:20260421T095801Z
URL:https://www.tri-townchamber.org/events/details/thank-you-veterans-11-11-2013-436
END:VEVENT

END:VCALENDAR
