BEGIN:VCALENDAR
VERSION:2.0
PRODID:-//ChamberMaster//Event Calendar 2.0//EN
METHOD:PUBLISH
X-PUBLISHED-TTL:P3D
REFRESH-INTERVAL:P3D
CALSCALE:GREGORIAN
BEGIN:VEVENT
DTSTART:20140910T114500Z
DTEND:20140910T130000Z
X-MICROSOFT-CDO-ALLDAYEVENT:FALSE
SUMMARY:Taking Care of Business: A Financial Workshop for Small Business Owners
DESCRIPTION:Small business owners have complex planning needs that require assistance.  Typically\, business owners have the potential for higher net worth than non-business owners\, and the higher the net worth of a family\, the more likely it is that they own a business.  This seminar connects with business owners.  It focuses on retirement\, insurance\, diversification of investments\, and tax sensitivities\, and offers strategies to help business owners build and protect their business and personal wealth. \n\n \n\nBrian J. Quinn\, CEBS\, CFA\, is a Financial Adviser with Centinel Financial Group\, LLC\, in Needham\, Massachusetts.\n\n \n\n \n\nYour attendance at this event does not obligate you to purchase any products. At the conclusion of the seminar\, representatives of the firm will be available to make appointments to review individually the products and services they offer. Registered Representative/Securities and Investment Advisory Services offered through Signator Investors\, Inc.\, Member FINRA\, SIPC\, a Registered Investment Adviser. Offering John Hancock Insurance Products. 160 Gould Street\, Needham Heights\, MA 02494. Centinel Financial Group\, LLC is independent of Signator Investors\, Inc. and any affiliated companies. 501-20140605-188701\n\n\n\nBrian J. Quinn\, CEBS\, CFA  \n\nbquinn@centinelfg.com\n\nhttp://www.centinelfinancialgroup.com
X-ALT-DESC;FMTTYPE=text/html:<span style="color: black\;"><span style="font-size: medium\;"><span style="font-family: calibri\;">Small business owners have complex planning needs that require assistance.&nbsp\; Typically\, business owners have the potential for higher net worth than non-business owners\, and the higher the net worth of a family\, the more likely it is that they own a business.&nbsp\; This seminar connects with business owners.&nbsp\; It focuses on retirement\, insurance\, diversification of investments\, and tax sensitivities\, and offers strategies to help business owners build and protect their business and personal wealth.&nbsp\;</span></span></span><br />\n&nbsp\;<br />\n<span style="font-size: medium\;"><span style="font-family: calibri\;">Brian J. Quinn\, CEBS\, CFA\, is a Financial Adviser with Centinel Financial Group\, LLC\, in Needham\, Massachusetts.</span></span><br />\n&nbsp\;<br />\n&nbsp\;<br />\n<em><span style="font-size: medium\;"><span style="font-family: calibri\;">Your attendance at this event does not obligate you to purchase any products. At the conclusion of the seminar\, representatives of the firm will be available to make appointments to review individually the products and services they offer. Registered Representative/Securities and Investment Advisory Services offered through Signator Investors\, Inc.\, Member FINRA\, SIPC\, a Registered Investment Adviser. Offering John Hancock Insurance Products. 160 Gould Street\, Needham Heights\, MA 02494. Centinel Financial Group\, LLC is independent of Signator Investors\, Inc. and any affiliated companies. 501-20140605-188701</span></span></em><br />\n<br />\nBrian J. Quinn\, CEBS\, CFA &nbsp\;<br />\nbquinn@centinelfg.com<br />\nhttp://www.centinelfinancialgroup.com&nbsp\;<br />\n<br />\n<br />\n&nbsp\;
LOCATION:Tri-Town Chamber of Commerce Conference Room
UID:e.1730.1027
SEQUENCE:3
DTSTAMP:20260420T150606Z
URL:https://www.tri-townchamber.org/events/details/taking-care-of-business-a-financial-workshop-for-small-business-owners-09-10-2014-1027
END:VEVENT

END:VCALENDAR
