BEGIN:VCALENDAR
VERSION:2.0
PRODID:-//ChamberMaster//Event Calendar 2.0//EN
METHOD:PUBLISH
X-PUBLISHED-TTL:P3D
REFRESH-INTERVAL:P3D
CALSCALE:GREGORIAN
BEGIN:VEVENT
DTSTART:20140328T120000Z
DTEND:20140328T130000Z
X-MICROSOFT-CDO-ALLDAYEVENT:FALSE
SUMMARY:Sturdy Memorial Spring Education Breakfast
DESCRIPTION:Spring Education Breakfast\n\nFriday\, March 28\, 2014\n\nSturdy Memorial Hospital Auditorium\n\nThe Hospital is pleased to host a Breakfast Program for members of the United Regional and Tri-Town Chambers of Commerce\, and the Lions\, Kiwanis\, and Rotary clubs. Please plan to join us for breakfast\, which will be followed by an introduction to Sturdy Memorial Hospital President and CEO Dr. Bruce Auerbach. This will be an opportunity to learn a little more about Dr. Auerbach\,\n\nhis priorities for Sturdy\, and how changes in health care affect today's clinicians.\n\nThe morning will include a hot and cold buffet breakfast\, door prizes\, and the opportunity to socialize and network.\n\nTo register for this free event\, contact the Hospital's Public Relations Department at 508/236-8020 or email khague@sturdymemorial.org.
X-ALT-DESC;FMTTYPE=text/html:<p style="text-align: center\;"><font color="#000000" face="Times New Roman" size="3"><span lang="EN"><strong>Spring Education Breakfast<br />\nFriday\, March 28\, 2014<br />\nSturdy Memorial Hospital Auditorium</strong><br />\nThe Hospital is pleased to host a Breakfast Program for members of the United Regional and Tri-Town Chambers of Commerce\, and the Lions\, Kiwanis\, and Rotary clubs. Please plan to join us for breakfast\, which will be followed by an introduction to <b>Sturdy Memorial Hospital President and CEO Dr. Bruce Auerbach. </b>This will be an opportunity to learn a little more about Dr. Auerbach\,<br />\nhis priorities for Sturdy\, and how changes in health care affect today&rsquo\;s clinicians.<br />\nThe morning will include a hot and cold buffet breakfast\, door prizes\, and the opportunity to socialize and network.<br />\nTo register for this free event\, contact the Hospital&#39\;s Public Relations Department at 508/236-8020 or email <a href="mailto:khague@sturdymemorial\,org">khague@sturdymemorial.org</a>.</span></font></p>\n
LOCATION:Sturdy Memorial Hospital 211 Park Street in Attleboro
UID:e.1730.979
SEQUENCE:3
DTSTAMP:20260421T014820Z
URL:https://www.tri-townchamber.org/events/details/sturdy-memorial-spring-education-breakfast-03-28-2014-979
END:VEVENT

END:VCALENDAR
