BEGIN:VCALENDAR
VERSION:2.0
PRODID:-//ChamberMaster//Event Calendar 2.0//EN
METHOD:PUBLISH
X-PUBLISHED-TTL:P3D
REFRESH-INTERVAL:P3D
CALSCALE:GREGORIAN
BEGIN:VEVENT
DTSTART:20150928T120000Z
DTEND:20150928T140000Z
X-MICROSOFT-CDO-ALLDAYEVENT:FALSE
SUMMARY:Special TREX I\, TREX II and TREX III Meeting
DESCRIPTION:TREX are Networking Groups within the Chamber\, formed as a forum for your business to build stronger relationships and therefore grow your business. We welcome new Chamber Members to join each group\, please call with questions.\n\n\n\n(This is a membership benefit and is included in your annual dues\, no joining fee for TREX groups)
X-ALT-DESC;FMTTYPE=text/html:TREX are Networking Groups within the Chamber\, formed as a forum for your business to build stronger relationships and therefore grow your business. We welcome new Chamber Members to join each group\, please call with questions.<br />\n<br />\n<strong><em>(This is a membership benefit and is included in your annual dues\, no joining fee for TREX groups)</em></strong>
LOCATION:Special Joint Trex Meeting will meet at HarborU in Mansfield
UID:e.1730.1615
SEQUENCE:3
DTSTAMP:20260419T190203Z
URL:https://www.tri-townchamber.org/events/details/special-trex-i-trex-ii-and-trex-iii-meeting-09-28-2015-1615
END:VEVENT

END:VCALENDAR
