BEGIN:VCALENDAR
VERSION:2.0
PRODID:-//ChamberMaster//Event Calendar 2.0//EN
METHOD:PUBLISH
X-PUBLISHED-TTL:P3D
REFRESH-INTERVAL:P3D
CALSCALE:GREGORIAN
BEGIN:VEVENT
DTSTART:20131110T190000Z
DTEND:20131110T210000Z
X-MICROSOFT-CDO-ALLDAYEVENT:FALSE
SUMMARY:Special Fall Open House
DESCRIPTION:Walk through the door and you'll immediately sense the "Doolittle Home Difference"\, a private nonprofit retirement home providing extraordinary care for those 65 and older for nearly 100 years. Residents live within a beautiful home that looks and feels more like an elegant New England Bed & Breakfast than a long term care facility. Doolittle Home provides 24/7 nursing care\, a licensed nursing unit\, and onsite nutrition with a registered Dietician\, Physical\, Occupational and Speech therapies\, a wide range of activities and hairdressing services\, all included in an affordable monthly fee.  A small resident to staff ratio ensures that your loved one receives the very best care possible.\n\n	Doolittle Home\, located at 16 Bird Street in Foxboro\, cordially invites you to join us for a special Open House event on Sunday\, November 10th from 2-4pm. Guests will enjoy refreshments featuring our irresistible homemade "Foxboro Famous" cookies\, musical entertainment and special giveaways. \n\n	You will have the opportunity to meet with Doolittle Home's caring\, friendly staff\, Board of Trustees\, residents and tour this exceptionally special home.\n\n	Our affordable all-inclusive fees provide peace of mind for Doolittle Home's Life Care\, Month To Month and Respite Care residents. We look forward to meeting you\, answering your questions and for you to experience first hand the Doolittle Home Difference. \n\n	Please feel free to contact us at 508-543-2694.  Visit our website www.DoolittleHome.org for a virtual tour and additional information.
X-ALT-DESC;FMTTYPE=text/html:<style type="text/css">\n<!--\n /* Font Definitions */\n@font-face\n	{font-family:Arial\;\n	panose-1:2 11 6 4 2 2 2 2 2 4\;\n	mso-font-charset:0\;\n	mso-generic-font-family:auto\;\n	mso-font-pitch:variable\;\n	mso-font-signature:3 0 0 0 1 0\;}\n@font-face\n	{font-family:Times\;\n	panose-1:2 0 5 0 0 0 0 0 0 0\;\n	mso-font-charset:0\;\n	mso-generic-font-family:auto\;\n	mso-font-pitch:variable\;\n	mso-font-signature:3 0 0 0 1 0\;}\n@font-face\n	{font-family:Cambria\;\n	panose-1:2 4 5 3 5 4 6 3 2 4\;\n	mso-font-charset:0\;\n	mso-generic-font-family:auto\;\n	mso-font-pitch:variable\;\n	mso-font-signature:3 0 0 0 1 0\;}\n@font-face\n	{font-family:"Baskerville Semibold"\;\n	panose-1:2 2 7 2 7 4 0 2 2 3\;\n	mso-font-charset:0\;\n	mso-generic-font-family:auto\;\n	mso-font-pitch:variable\;\n	mso-font-signature:3 0 0 0 1 0\;}\n@font-face\n	{font-family:"Helvetica Neue"\;\n	panose-1:2 0 5 3 0 0 0 2 0 4\;\n	mso-font-charset:0\;\n	mso-generic-font-family:auto\;\n	mso-font-pitch:variable\;\n	mso-font-signature:3 0 0 0 1 0\;}\n /* Style Definitions */\np.MsoNormal\, li.MsoNormal\, div.MsoNormal\n	{mso-style-parent:""\;\n	margin:0in\;\n	margin-bottom:.0001pt\;\n	mso-pagination:widow-orphan\;\n	font-size:12.0pt\;\n	font-family:"Times New Roman"\;\n	mso-ascii-font-family:Cambria\;\n	mso-fareast-font-family:Cambria\;\n	mso-hansi-font-family:Cambria\;\n	mso-bidi-font-family:"Times New Roman"\;}\n@page Section1\n	{size:8.5in 11.0in\;\n	margin:1.0in 1.25in 1.0in 1.25in\;\n	mso-header-margin:.5in\;\n	mso-footer-margin:.5in\;\n	mso-paper-source:0\;}\ndiv.Section1\n	{page:Section1\;}\n--></style>\n<p class="MsoNormal">\n	<span style="font-size:14px\;"><span style="font-family: Arial\; letter-spacing: -0.3pt\;">Walk through the door and you&rsquo\;ll immediately sense the &ldquo\;Doolittle Home Difference&rdquo\;\, a</span><span style="font-family: Arial\;"> private nonprofit retirement home providing extraordinary care for those 65 and older</span><span style="font-family: Arial\; letter-spacing: -0.3pt\;"> for nearly 100 years. </span><span style="font-family: Arial\;">Residents live within a beautiful home that looks and feels more like an elegant New England Bed &amp\; Breakfast than a long term care facility.</span><span style="font-family: Arial\;"> </span><span style="font-family: Arial\;">Doolittle Home provides 24/7 nursing care\, a licensed nursing unit\, and onsite nutrition with a registered Dietician\, Physical\, Occupational and Speech therapies\, a wide range of activities and hairdressing services\, all included in an affordable monthly fee.<span>&nbsp\; </span>A small resident to staff ratio ensures that your loved one receives the very best care possible.</span></span></p>\n<p class="MsoNormal" style="mso-pagination:none\;tab-stops:28.0pt 56.0pt 84.0pt 112.0pt 140.0pt 168.0pt 196.0pt 224.0pt 3.5in 280.0pt 308.0pt 336.0pt\;\nmso-layout-grid-align:none\;text-autospace:none">\n	<span style="font-size:14px\;"><strong><span style="font-family: Arial\;">Doolittle Home\, located at 16 Bird Street in Foxboro\, cordially invites you to </span><span style="font-family: Arial\;">join us</span><span style="font-family: Arial\;"> </span><span style="font-family: Arial\;">for a special Open House event on </span><span style="font-family: Arial\;">Sunday\, November 10th from 2-4pm</span><span style="font-family: Arial\;">.</span><span style="font-family: Arial\;"> </span><span style="font-family: Arial\; letter-spacing: -0.3pt\;">Guests will enjoy refreshments featuring our irresistible homemade &ldquo\;Foxboro Famous&rdquo\; cookies\, musical entertainment and special giveaways. </span></strong></span></p>\n<p class="MsoNormal" style="mso-pagination:none\;tab-stops:28.0pt 56.0pt 84.0pt 112.0pt 140.0pt 168.0pt 196.0pt 224.0pt 3.5in 280.0pt 308.0pt 336.0pt\;\nmso-layout-grid-align:none\;text-autospace:none">\n	<span style="font-size:14px\;"><span style="font-family: Arial\;">You will have the opportunity to meet with Doolittle Home&rsquo\;s caring\, friendly staff\, Board of Trustees\, residents and tour this exceptionally special home.</span></span></p>\n<p class="MsoNormal">\n	<span style="font-family: Arial\; letter-spacing: -0.3pt\; font-size: 14px\;">Our affordable all-inclusive fees provide peace of mind for </span>Doolittle<span style="font-family: Arial\; letter-spacing: -0.3pt\; font-size: 14px\;"> Home&rsquo\;s Life Care\, Month To Month and Respite Care residents. We look forward to meeting you\, answering your questions and for you to experience first hand the </span>Doolittle<span style="font-family: Arial\; letter-spacing: -0.3pt\; font-size: 14px\;"> Home Difference.&nbsp\;</span></p>\n<p class="MsoNormal" style="mso-pagination:none\;tab-stops:28.0pt 56.0pt 84.0pt 112.0pt 140.0pt 168.0pt 196.0pt 224.0pt 3.5in 280.0pt 308.0pt 336.0pt\;\nmso-layout-grid-align:none\;text-autospace:none">\n	<span style="font-family: Arial\; font-size: 14px\;">Please feel free to contact us at 508-543-2694.</span><span style="font-family: Arial\; font-size: 14px\;">&nbsp\; </span><span style="font-family: Arial\; font-size: 14px\;">Visit our website www.</span><span style="font-family: Arial\; font-size: 14px\;">DoolittleHome.org</span><span style="font-family: Arial\; font-size: 14px\;"> for a virtual tour and additional information.</span></p>\n
LOCATION:Doolittle Home 16 Bird Street Foxboro\, MA 02035
UID:e.1730.434
SEQUENCE:3
DTSTAMP:20260421T095528Z
URL:https://www.tri-townchamber.org/events/details/special-fall-open-house-11-10-2013-434
END:VEVENT

END:VCALENDAR
