BEGIN:VCALENDAR
VERSION:2.0
PRODID:-//ChamberMaster//Event Calendar 2.0//EN
METHOD:PUBLISH
X-PUBLISHED-TTL:P3D
REFRESH-INTERVAL:P3D
CALSCALE:GREGORIAN
BEGIN:VEVENT
DTSTART:20150117T140000Z
DTEND:20150117T213000Z
X-MICROSOFT-CDO-ALLDAYEVENT:FALSE
SUMMARY:Space Saturday / Battleship Cove
DESCRIPTION:Blast off into space right from the decks of the USS Joseph P. Kennedy\, Jr. at Battleship Cove in Celebration of 50 years since the ship was involved in the Gemini space capsule recovery program. Make a space helmet\, eat astronaut food and make your own Gemini mission patch! All activities are included with general admission. Please call 5089-678-1100 for more information.
X-ALT-DESC;FMTTYPE=text/html:Blast off into space right from the decks of the USS Joseph P. Kennedy\, Jr. at Battleship Cove in Celebration of 50 years since the ship was involved in the Gemini space capsule recovery program. Make a space helmet\, eat astronaut food and make your own Gemini mission patch! All activities are included with general admission. Please call 5089-678-1100 for more information.
LOCATION:Battleship Cove 5 Water Street Fall River\, MA 02721
UID:e.1730.1088
SEQUENCE:3
DTSTAMP:20260420T084045Z
URL:https://www.tri-townchamber.org/events/details/space-saturday-battleship-cove-01-17-2015-1088
END:VEVENT

END:VCALENDAR
