BEGIN:VCALENDAR
VERSION:2.0
PRODID:-//ChamberMaster//Event Calendar 2.0//EN
METHOD:PUBLISH
X-PUBLISHED-TTL:P3D
REFRESH-INTERVAL:P3D
CALSCALE:GREGORIAN
BEGIN:VEVENT
DTSTART;VALUE=DATE:20150827
DTEND;VALUE=DATE:20150828
TRANSP:TRANSPARENT
X-MICROSOFT-CDO-ALLDAYEVENT:TRUE
SUMMARY:Social Media Office Hours - Sign Up for this Benefit
DESCRIPTION:Sign-up for a free 30 minute one-on-one social media session with our social media manager\, Jen Vondenbrink at the Tri-Town Chamber Offices in Mansfield.  Bring your questions and Jen will help you navigate your social media strategy.   The chamber is wireless so you can bring your laptop or iPad\, but neither are required for a meeting.
X-ALT-DESC;FMTTYPE=text/html:Sign-up for a free 30 minute one-on-one social media session with our social media manager\, Jen Vondenbrink at the Tri-Town Chamber Offices in Mansfield. &nbsp\;Bring your questions and Jen will help you navigate your social media strategy. &nbsp\; The chamber is wireless so you can bring your laptop or iPad\, but neither are required for a meeting.
LOCATION:will be held at the Tri-Town Chamber of Commerce\, in the Davis Financial Conference Room 280 School Street\, Mansfield
UID:e.1730.1692
SEQUENCE:3
DTSTAMP:20260419T223947Z
URL:https://www.tri-townchamber.org/events/details/social-media-office-hours-sign-up-for-this-benefit-08-27-2015-1692
END:VEVENT

END:VCALENDAR
