BEGIN:VCALENDAR
VERSION:2.0
PRODID:-//ChamberMaster//Event Calendar 2.0//EN
METHOD:PUBLISH
X-PUBLISHED-TTL:P3D
REFRESH-INTERVAL:P3D
CALSCALE:GREGORIAN
BEGIN:VEVENT
DTSTART;VALUE=DATE:20130822
DTEND;VALUE=DATE:20130823
TRANSP:TRANSPARENT
X-MICROSOFT-CDO-ALLDAYEVENT:TRUE
SUMMARY:Social Media Office Hours
DESCRIPTION:Tri-Town Chamber of Commerce Members\, Make an appointment for Free Social Media advice\, Jen Vondenbrink will be on hand at the Chamber to answer your questions
X-ALT-DESC;FMTTYPE=text/html:Tri-Town Chamber of Commerce Members\, Make an appointment for Free Social Media advice\, Jen Vondenbrink will be on hand at the Chamber to answer your questions
LOCATION:At the Tri-Town Chamber of Commerce in the Deutsche Bank Championship Conference Room. The Chamber is located within Mansfield Crossing shopping Center\, our building is back behind Kohls Department Store.
UID:e.1730.21
SEQUENCE:3
DTSTAMP:20260421T131811Z
URL:https://www.tri-townchamber.org/events/details/social-media-office-hours-08-22-2013-21
END:VEVENT

END:VCALENDAR
